BEGIN:VCALENDAR
VERSION:2.0
PRODID:-//Kai Strandskov Music - ECPv6.15.17.1//NONSGML v1.0//EN
CALSCALE:GREGORIAN
METHOD:PUBLISH
X-WR-CALNAME:Kai Strandskov Music
X-ORIGINAL-URL:https://kaistrandskov.com
X-WR-CALDESC:Events for Kai Strandskov Music
REFRESH-INTERVAL;VALUE=DURATION:PT1H
X-Robots-Tag:noindex
X-PUBLISHED-TTL:PT1H
BEGIN:VTIMEZONE
TZID:Asia/Dubai
BEGIN:STANDARD
TZOFFSETFROM:+0400
TZOFFSETTO:+0400
TZNAME:+04
DTSTART:20220101T000000
END:STANDARD
END:VTIMEZONE
BEGIN:VEVENT
DTSTART;TZID=Asia/Dubai:20240413T210000
DTEND;TZID=Asia/Dubai:20240413T210000
DTSTAMP:20260422T132805
CREATED:20250831T084725Z
LAST-MODIFIED:20250831T084725Z
UID:2177-1713042000-1713042000@kaistrandskov.com
SUMMARY:Radio Rewind
DESCRIPTION:
URL:https://kaistrandskov.com/event/radio-rewind-9/
END:VEVENT
BEGIN:VEVENT
DTSTART;TZID=Asia/Dubai:20240406T200000
DTEND;TZID=Asia/Dubai:20240406T200000
DTSTAMP:20260422T132805
CREATED:20250831T084724Z
LAST-MODIFIED:20250831T084724Z
UID:2176-1712433600-1712433600@kaistrandskov.com
SUMMARY:Mettle Lark
DESCRIPTION:
URL:https://kaistrandskov.com/event/mettle-lark-9/
LOCATION:Slim’s Last Chance
END:VEVENT
BEGIN:VEVENT
DTSTART;TZID=Asia/Dubai:20240402T200000
DTEND;TZID=Asia/Dubai:20240402T200000
DTSTAMP:20260422T132805
CREATED:20250831T084724Z
LAST-MODIFIED:20250831T084724Z
UID:2175-1712088000-1712088000@kaistrandskov.com
SUMMARY:Everything Oscillating
DESCRIPTION:
URL:https://kaistrandskov.com/event/everything-oscillating-11/
LOCATION:Tim’s Tavern\, 9655 16th Ave SW\, Seattle\, 98106
END:VEVENT
BEGIN:VEVENT
DTSTART;TZID=Asia/Dubai:20240323T200000
DTEND;TZID=Asia/Dubai:20240323T200000
DTSTAMP:20260422T132805
CREATED:20250831T084724Z
LAST-MODIFIED:20250831T084724Z
UID:2174-1711224000-1711224000@kaistrandskov.com
SUMMARY:The Drive Through
DESCRIPTION:
URL:https://kaistrandskov.com/event/the-drive-through-3/
END:VEVENT
BEGIN:VEVENT
DTSTART;TZID=Asia/Dubai:20240315T200000
DTEND;TZID=Asia/Dubai:20240315T200000
DTSTAMP:20260422T132805
CREATED:20250831T084724Z
LAST-MODIFIED:20250831T084724Z
UID:2173-1710532800-1710532800@kaistrandskov.com
SUMMARY:Maiden Moss
DESCRIPTION:
URL:https://kaistrandskov.com/event/maiden-moss-3/
LOCATION:Blue Moon Tavern
END:VEVENT
BEGIN:VEVENT
DTSTART;TZID=Asia/Dubai:20240224T200000
DTEND;TZID=Asia/Dubai:20240224T200000
DTSTAMP:20260422T132805
CREATED:20250831T084524Z
LAST-MODIFIED:20250831T084524Z
UID:2172-1708804800-1708804800@kaistrandskov.com
SUMMARY:Everything Oscillating
DESCRIPTION:Mercury Tree\, Law Boss\, Everything Oscillating
URL:https://kaistrandskov.com/event/everything-oscillating-10/
LOCATION:High Water Mark
END:VEVENT
BEGIN:VEVENT
DTSTART;TZID=Asia/Dubai:20240223T200000
DTEND;TZID=Asia/Dubai:20240223T200000
DTSTAMP:20260422T132805
CREATED:20250831T084523Z
LAST-MODIFIED:20250831T084523Z
UID:2171-1708718400-1708718400@kaistrandskov.com
SUMMARY:Everything Oscillating
DESCRIPTION:Thunderchud\, Templet\, Everything Oscillating
URL:https://kaistrandskov.com/event/everything-oscillating-9/
LOCATION:Gambrel Annex
END:VEVENT
BEGIN:VEVENT
DTSTART;TZID=Asia/Dubai:20240222T200000
DTEND;TZID=Asia/Dubai:20240222T200000
DTSTAMP:20260422T132805
CREATED:20250831T084523Z
LAST-MODIFIED:20250831T084523Z
UID:2170-1708632000-1708632000@kaistrandskov.com
SUMMARY:Everything Oscillating
DESCRIPTION:Francis Soyer\, Ala\, Everything Oscillating
URL:https://kaistrandskov.com/event/everything-oscillating-8/
LOCATION:Cafe Colonial
END:VEVENT
BEGIN:VEVENT
DTSTART;TZID=Asia/Dubai:20240221T200000
DTEND;TZID=Asia/Dubai:20240221T200000
DTSTAMP:20260422T132805
CREATED:20250831T084523Z
LAST-MODIFIED:20250831T084523Z
UID:2169-1708545600-1708545600@kaistrandskov.com
SUMMARY:Everything Oscillating
DESCRIPTION:Echo Specter\, Jason Hoopes and members of Fred Frith Trio\, Everything Oscillating
URL:https://kaistrandskov.com/event/everything-oscillating-7/
LOCATION:Elbow Room Jack London
END:VEVENT
BEGIN:VEVENT
DTSTART;TZID=Asia/Dubai:20240220T200000
DTEND;TZID=Asia/Dubai:20240220T200000
DTSTAMP:20260422T132805
CREATED:20250831T084523Z
LAST-MODIFIED:20250831T084523Z
UID:2168-1708459200-1708459200@kaistrandskov.com
SUMMARY:Everything Oscillating
DESCRIPTION:Satya Sena\, Tiktaalik\, Everything Oscillating
URL:https://kaistrandskov.com/event/everything-oscillating-6/
LOCATION:The Sardine\, 1101 South Pacific Ave\, San Pedro\, CA\, 90731\, United States
END:VEVENT
BEGIN:VEVENT
DTSTART;TZID=Asia/Dubai:20240219T200000
DTEND;TZID=Asia/Dubai:20240219T200000
DTSTAMP:20260422T132805
CREATED:20250831T084323Z
LAST-MODIFIED:20250831T084323Z
UID:2167-1708372800-1708372800@kaistrandskov.com
SUMMARY:Everything Oscillating
DESCRIPTION:Action Friend\, Dan Rosenboom\, Jake Vossler\, Anthony Fung\, Everything Oscillating
URL:https://kaistrandskov.com/event/everything-oscillating-5/
LOCATION:The Redwood
END:VEVENT
BEGIN:VEVENT
DTSTART;TZID=Asia/Dubai:20240217T200000
DTEND;TZID=Asia/Dubai:20240217T200000
DTSTAMP:20260422T132805
CREATED:20250831T084322Z
LAST-MODIFIED:20250831T084322Z
UID:2166-1708200000-1708200000@kaistrandskov.com
SUMMARY:Everything Oscillating
DESCRIPTION:
URL:https://kaistrandskov.com/event/everything-oscillating-4/
END:VEVENT
BEGIN:VEVENT
DTSTART;TZID=Asia/Dubai:20240216T200000
DTEND;TZID=Asia/Dubai:20240216T200000
DTSTAMP:20260422T132805
CREATED:20250831T084322Z
LAST-MODIFIED:20250831T084322Z
UID:2165-1708113600-1708113600@kaistrandskov.com
SUMMARY:Everything Oscillating
DESCRIPTION:
URL:https://kaistrandskov.com/event/everything-oscillating-3/
LOCATION:Blue Moon Tavern
END:VEVENT
BEGIN:VEVENT
DTSTART;TZID=Asia/Dubai:20240202T200000
DTEND;TZID=Asia/Dubai:20240202T200000
DTSTAMP:20260422T132805
CREATED:20250831T084322Z
LAST-MODIFIED:20250831T084322Z
UID:2164-1706904000-1706904000@kaistrandskov.com
SUMMARY:Shane McGowen Tribute
DESCRIPTION:
URL:https://kaistrandskov.com/event/shane-mcgowen-tribute/
LOCATION:Conor Byrne
END:VEVENT
BEGIN:VEVENT
DTSTART;TZID=Asia/Dubai:20240201T200000
DTEND;TZID=Asia/Dubai:20240201T200000
DTSTAMP:20260422T132805
CREATED:20250831T084322Z
LAST-MODIFIED:20250831T084322Z
UID:2163-1706817600-1706817600@kaistrandskov.com
SUMMARY:Maiden Moss
DESCRIPTION:​
URL:https://kaistrandskov.com/event/maiden-moss-2/
LOCATION:Conor Byrne
END:VEVENT
BEGIN:VEVENT
DTSTART;TZID=Asia/Dubai:20240126T200000
DTEND;TZID=Asia/Dubai:20240126T200000
DTSTAMP:20260422T132805
CREATED:20250831T084122Z
LAST-MODIFIED:20250831T084122Z
UID:2162-1706299200-1706299200@kaistrandskov.com
SUMMARY:Everything Oscillating
DESCRIPTION:
URL:https://kaistrandskov.com/event/everything-oscillating-2/
LOCATION:Lucky Liquor
END:VEVENT
BEGIN:VEVENT
DTSTART;TZID=Asia/Dubai:20240119T200000
DTEND;TZID=Asia/Dubai:20240119T200000
DTSTAMP:20260422T132805
CREATED:20250831T084121Z
LAST-MODIFIED:20250831T084121Z
UID:2161-1705694400-1705694400@kaistrandskov.com
SUMMARY:Maiden Moss
DESCRIPTION:
URL:https://kaistrandskov.com/event/maiden-moss/
LOCATION:Tim’s Tavern\, 9655 16th Ave SW\, Seattle\, 98106
END:VEVENT
BEGIN:VEVENT
DTSTART;TZID=Asia/Dubai:20240113T200000
DTEND;TZID=Asia/Dubai:20240113T200000
DTSTAMP:20260422T132805
CREATED:20250831T084121Z
LAST-MODIFIED:20250831T084121Z
UID:2160-1705176000-1705176000@kaistrandskov.com
SUMMARY:Mettle Lark
DESCRIPTION:
URL:https://kaistrandskov.com/event/mettle-lark-8/
LOCATION:Rabbit Box
END:VEVENT
BEGIN:VEVENT
DTSTART;TZID=Asia/Dubai:20240111T000000
DTEND;TZID=Asia/Dubai:20240111T000000
DTSTAMP:20260422T132805
CREATED:20250831T084121Z
LAST-MODIFIED:20250831T084121Z
UID:2159-1704931200-1704931200@kaistrandskov.com
SUMMARY:Everything Oscillating
DESCRIPTION:Pre-order the album now
URL:https://kaistrandskov.com/event/everything-oscillating/
END:VEVENT
BEGIN:VEVENT
DTSTART;TZID=Asia/Dubai:20240107T113000
DTEND;TZID=Asia/Dubai:20240107T113000
DTSTAMP:20260422T132805
CREATED:20250831T084121Z
LAST-MODIFIED:20250831T084121Z
UID:2158-1704627000-1704627000@kaistrandskov.com
SUMMARY:Smilin' Scandinavians
DESCRIPTION:
URL:https://kaistrandskov.com/event/smilin-scandinavians/
LOCATION:Swedish Club
END:VEVENT
BEGIN:VEVENT
DTSTART;TZID=Asia/Dubai:20231231T200000
DTEND;TZID=Asia/Dubai:20231231T200000
DTSTAMP:20260422T132805
CREATED:20250831T093106Z
LAST-MODIFIED:20250831T093106Z
UID:2240-1704052800-1704052800@kaistrandskov.com
SUMMARY:Mettle Lark
DESCRIPTION:NEW YEAR’S EVE 2024 PARTY Mettle Lark and more!
URL:https://kaistrandskov.com/event/mettle-lark-22/
END:VEVENT
BEGIN:VEVENT
DTSTART;TZID=Asia/Dubai:20231120T190000
DTEND;TZID=Asia/Dubai:20231120T190000
DTSTAMP:20260422T132805
CREATED:20250831T093106Z
LAST-MODIFIED:20250831T093106Z
UID:2239-1700506800-1700506800@kaistrandskov.com
SUMMARY:Haley Graves
DESCRIPTION:Haley Graves\, Air Jazz + IONIC
URL:https://kaistrandskov.com/event/haley-graves/
END:VEVENT
BEGIN:VEVENT
DTSTART;TZID=Asia/Dubai:20231116T200000
DTEND;TZID=Asia/Dubai:20231116T200000
DTSTAMP:20260422T132805
CREATED:20250831T093106Z
LAST-MODIFIED:20250831T093106Z
UID:2238-1700164800-1700164800@kaistrandskov.com
SUMMARY:Mettle Lark
DESCRIPTION:Blue Star Creeper\, Mettle Lark\, Fiia Louise
URL:https://kaistrandskov.com/event/mettle-lark-21/
END:VEVENT
BEGIN:VEVENT
DTSTART;TZID=Asia/Dubai:20231104T200000
DTEND;TZID=Asia/Dubai:20231104T200000
DTSTAMP:20260422T132805
CREATED:20250831T093052Z
LAST-MODIFIED:20250831T093052Z
UID:2237-1699128000-1699128000@kaistrandskov.com
SUMMARY:The Drive Through
DESCRIPTION:Devil Wood\, At The Spine\, The Drive Through
URL:https://kaistrandskov.com/event/the-drive-through-9/
END:VEVENT
BEGIN:VEVENT
DTSTART;TZID=Asia/Dubai:20231028T200000
DTEND;TZID=Asia/Dubai:20231028T200000
DTSTAMP:20260422T132805
CREATED:20250831T093051Z
LAST-MODIFIED:20250831T093051Z
UID:2236-1698523200-1698523200@kaistrandskov.com
SUMMARY:The Thrill
DESCRIPTION:Stuntmen\, Baby and the Nobodies\, The Thrill
URL:https://kaistrandskov.com/event/the-thrill-4/
END:VEVENT
BEGIN:VEVENT
DTSTART;TZID=Asia/Dubai:20231027T200000
DTEND;TZID=Asia/Dubai:20231027T200000
DTSTAMP:20260422T132805
CREATED:20250831T093051Z
LAST-MODIFIED:20250831T093051Z
UID:2235-1698436800-1698436800@kaistrandskov.com
SUMMARY:Mettle Lark
DESCRIPTION:Guardian Alien\, Mettle Lark\, Death by Overkill
URL:https://kaistrandskov.com/event/mettle-lark-20/
END:VEVENT
BEGIN:VEVENT
DTSTART;TZID=Asia/Dubai:20231026T200000
DTEND;TZID=Asia/Dubai:20231026T200000
DTSTAMP:20260422T132805
CREATED:20250831T093051Z
LAST-MODIFIED:20250831T093051Z
UID:2234-1698350400-1698350400@kaistrandskov.com
SUMMARY:Everything Oscillating
DESCRIPTION:Authentic Luxury\, Bad Luck\, and Everything Oscillating
URL:https://kaistrandskov.com/event/everything-oscillating-15/
END:VEVENT
BEGIN:VEVENT
DTSTART;TZID=Asia/Dubai:20231021T200000
DTEND;TZID=Asia/Dubai:20231021T200000
DTSTAMP:20260422T132805
CREATED:20250831T093051Z
LAST-MODIFIED:20250831T093051Z
UID:2233-1697918400-1697918400@kaistrandskov.com
SUMMARY:Mettle Lark
DESCRIPTION:Trazlus\, Jaguar Paw\, Mettle Lark
URL:https://kaistrandskov.com/event/mettle-lark-19/
END:VEVENT
BEGIN:VEVENT
DTSTART;TZID=Asia/Dubai:20231007T200000
DTEND;TZID=Asia/Dubai:20231007T200000
DTSTAMP:20260422T132805
CREATED:20250831T093037Z
LAST-MODIFIED:20250831T093037Z
UID:2231-1696708800-1696708800@kaistrandskov.com
SUMMARY:Everything Oscillating
DESCRIPTION:Everything Oscillating\, Dust Mice\, The Glutz
URL:https://kaistrandskov.com/event/everything-oscillating-14/
END:VEVENT
BEGIN:VEVENT
DTSTART;TZID=Asia/Dubai:20230929T200000
DTEND;TZID=Asia/Dubai:20230929T200000
DTSTAMP:20260422T132805
CREATED:20250831T093037Z
LAST-MODIFIED:20250831T093037Z
UID:2230-1696017600-1696017600@kaistrandskov.com
SUMMARY:The Drive Through
DESCRIPTION:Stellar Jays\, The Drive Through\, Peter Donovan
URL:https://kaistrandskov.com/event/the-drive-through-8/
END:VEVENT
END:VCALENDAR