BEGIN:VCALENDAR
VERSION:2.0
PRODID:-//Kai Strandskov Music - ECPv6.15.17.1//NONSGML v1.0//EN
CALSCALE:GREGORIAN
METHOD:PUBLISH
X-WR-CALNAME:Kai Strandskov Music
X-ORIGINAL-URL:https://kaistrandskov.com
X-WR-CALDESC:Events for Kai Strandskov Music
REFRESH-INTERVAL;VALUE=DURATION:PT1H
X-Robots-Tag:noindex
X-PUBLISHED-TTL:PT1H
BEGIN:VTIMEZONE
TZID:Asia/Dubai
BEGIN:STANDARD
TZOFFSETFROM:+0400
TZOFFSETTO:+0400
TZNAME:+04
DTSTART:19690101T000000
END:STANDARD
END:VTIMEZONE
BEGIN:VEVENT
DTSTART;TZID=Asia/Dubai:20260424T160852
DTEND;TZID=Asia/Dubai:20260424T160852
DTSTAMP:20260424T160852
CREATED:20250831T094255Z
LAST-MODIFIED:20250831T094255Z
UID:2370-0-0@kaistrandskov.com
SUMMARY:Bucharest Drinking Team\, The m9
DESCRIPTION:2026 Post-fest Mainpage
URL:https://kaistrandskov.com/event/bucharest-drinking-team-the-m9/
LOCATION:St. Dimitrio’s Greek Orthodox Church\, Seattle\, United States
END:VEVENT
BEGIN:VEVENT
DTSTART;TZID=Asia/Dubai:20260424T160857
DTEND;TZID=Asia/Dubai:20260424T160857
DTSTAMP:20260424T160857
CREATED:20250831T094216Z
LAST-MODIFIED:20250831T094529Z
UID:2354-0-0@kaistrandskov.com
SUMMARY:The m9
DESCRIPTION:Welcome to Balkanalia!
URL:https://kaistrandskov.com/event/the-m9-2/
END:VEVENT
BEGIN:VEVENT
DTSTART;TZID=Asia/Dubai:20260424T160857
DTEND;TZID=Asia/Dubai:20260424T160857
DTSTAMP:20260424T160857
CREATED:20250831T093508Z
LAST-MODIFIED:20250831T093508Z
UID:2249-0-0@kaistrandskov.com
SUMMARY:Haley Graves
DESCRIPTION:belltownbloom.com
URL:https://kaistrandskov.com/event/haley-graves-6/
END:VEVENT
BEGIN:VEVENT
DTSTART;TZID=Asia/Dubai:20260424T160857
DTEND;TZID=Asia/Dubai:20260424T160857
DTSTAMP:20260424T160857
CREATED:20250831T090047Z
LAST-MODIFIED:20250831T093037Z
UID:2227-0-0@kaistrandskov.com
SUMMARY:The Smilin Scandinavians
DESCRIPTION:Oktoberfest! with The Smilin Scandinavians!
URL:https://kaistrandskov.com/event/the-smilin-scandinavians-3/
END:VEVENT
BEGIN:VEVENT
DTSTART;TZID=Asia/Dubai:20260424T160857
DTEND;TZID=Asia/Dubai:20260424T160857
DTSTAMP:20260424T160857
CREATED:20250831T084950Z
LAST-MODIFIED:20250831T084950Z
UID:2184-0-0@kaistrandskov.com
SUMMARY:Smilin Scandinavians
DESCRIPTION:
URL:https://kaistrandskov.com/event/smilin-scandinavians-2/
LOCATION:Treveri Cellars
END:VEVENT
BEGIN:VEVENT
DTSTART;TZID=Asia/Dubai:20260424T160857
DTEND;TZID=Asia/Dubai:20260424T160857
DTSTAMP:20260424T160857
CREATED:20250831T083719Z
LAST-MODIFIED:20250831T083719Z
UID:2152-0-0@kaistrandskov.com
SUMMARY:Radio Rewind
DESCRIPTION:Dance all night to all your favorite hit songs from the past and present. Enjoy some local wine and snacks.
URL:https://kaistrandskov.com/event/radio-rewind-8/
END:VEVENT
BEGIN:VEVENT
DTSTART;TZID=Asia/Dubai:20260424T160857
DTEND;TZID=Asia/Dubai:20260424T160857
DTSTAMP:20260424T160857
CREATED:20250831T083317Z
LAST-MODIFIED:20250831T083920Z
UID:2142-0-0@kaistrandskov.com
SUMMARY:Paul Simon Tribute
DESCRIPTION:An evening of Paul Simon adjacent music.
URL:https://kaistrandskov.com/event/paul-simon-tribute/
END:VEVENT
END:VCALENDAR