BEGIN:VCALENDAR
VERSION:2.0
PRODID:-//Kai Strandskov Music - ECPv6.15.17.1//NONSGML v1.0//EN
CALSCALE:GREGORIAN
METHOD:PUBLISH
X-WR-CALNAME:Kai Strandskov Music
X-ORIGINAL-URL:https://kaistrandskov.com
X-WR-CALDESC:Events for Kai Strandskov Music
REFRESH-INTERVAL;VALUE=DURATION:PT1H
X-Robots-Tag:noindex
X-PUBLISHED-TTL:PT1H
BEGIN:VTIMEZONE
TZID:Asia/Dubai
BEGIN:STANDARD
TZOFFSETFROM:+0400
TZOFFSETTO:+0400
TZNAME:+04
DTSTART:20110101T000000
END:STANDARD
END:VTIMEZONE
BEGIN:VEVENT
DTSTART;TZID=Asia/Dubai:20130111T210000
DTEND;TZID=Asia/Dubai:20130111T210000
DTSTAMP:20260424T193847
CREATED:20250831T100808Z
LAST-MODIFIED:20250831T100808Z
UID:2510-1357938000-1357938000@kaistrandskov.com
SUMMARY:Shiplosion
DESCRIPTION:
URL:https://kaistrandskov.com/event/shiplosion/
END:VEVENT
BEGIN:VEVENT
DTSTART;TZID=Asia/Dubai:20130105T210000
DTEND;TZID=Asia/Dubai:20130105T210000
DTSTAMP:20260424T193847
CREATED:20250831T100808Z
LAST-MODIFIED:20250831T100808Z
UID:2509-1357419600-1357419600@kaistrandskov.com
SUMMARY:Bucharest Drinking Team
DESCRIPTION:
URL:https://kaistrandskov.com/event/bucharest-drinking-team-33/
END:VEVENT
BEGIN:VEVENT
DTSTART;TZID=Asia/Dubai:20121213T210000
DTEND;TZID=Asia/Dubai:20121213T210000
DTSTAMP:20260424T193847
CREATED:20250831T101607Z
LAST-MODIFIED:20250831T101607Z
UID:2588-1355432400-1355432400@kaistrandskov.com
SUMMARY:Sitting in with Marchette DuBois and James Hoskins
DESCRIPTION:I’ll probably play some darbuka  on a few tunes.
URL:https://kaistrandskov.com/event/sitting-in-with-marchette-dubois-and-james-hoskins/
END:VEVENT
BEGIN:VEVENT
DTSTART;TZID=Asia/Dubai:20121207T210000
DTEND;TZID=Asia/Dubai:20121207T210000
DTSTAMP:20260424T193847
CREATED:20250831T101518Z
LAST-MODIFIED:20250831T101518Z
UID:2586-1354914000-1354914000@kaistrandskov.com
SUMMARY:Bucharest Drinking Team
DESCRIPTION:
URL:https://kaistrandskov.com/event/bucharest-drinking-team-56/
END:VEVENT
BEGIN:VEVENT
DTSTART;TZID=Asia/Dubai:20121201T210000
DTEND;TZID=Asia/Dubai:20121201T210000
DTSTAMP:20260424T193847
CREATED:20250831T101517Z
LAST-MODIFIED:20250831T101517Z
UID:2585-1354395600-1354395600@kaistrandskov.com
SUMMARY:Bucharest Drinking Team
DESCRIPTION:with Annie Ford Band and Fabulous Downey Brothers.
URL:https://kaistrandskov.com/event/bucharest-drinking-team-55/
END:VEVENT
BEGIN:VEVENT
DTSTART;TZID=Asia/Dubai:20121129T210000
DTEND;TZID=Asia/Dubai:20121129T210000
DTSTAMP:20260424T193847
CREATED:20250831T101517Z
LAST-MODIFIED:20250831T101517Z
UID:2584-1354222800-1354222800@kaistrandskov.com
SUMMARY:Shiplosion
DESCRIPTION:
URL:https://kaistrandskov.com/event/shiplosion-21/
END:VEVENT
BEGIN:VEVENT
DTSTART;TZID=Asia/Dubai:20121126T210000
DTEND;TZID=Asia/Dubai:20121126T210000
DTSTAMP:20260424T193847
CREATED:20250831T101517Z
LAST-MODIFIED:20250831T101517Z
UID:2583-1353963600-1353963600@kaistrandskov.com
SUMMARY:Shiplosion
DESCRIPTION:
URL:https://kaistrandskov.com/event/shiplosion-20/
END:VEVENT
BEGIN:VEVENT
DTSTART;TZID=Asia/Dubai:20121021T210000
DTEND;TZID=Asia/Dubai:20121021T210000
DTSTAMP:20260424T193847
CREATED:20250831T101507Z
LAST-MODIFIED:20250831T101507Z
UID:2581-1350853200-1350853200@kaistrandskov.com
SUMMARY:Shiplosion\, The Them
DESCRIPTION:
URL:https://kaistrandskov.com/event/shiplosion-the-them/
END:VEVENT
BEGIN:VEVENT
DTSTART;TZID=Asia/Dubai:20121006T160000
DTEND;TZID=Asia/Dubai:20121006T160000
DTSTAMP:20260424T193847
CREATED:20250831T101507Z
LAST-MODIFIED:20250831T101507Z
UID:2580-1349539200-1349539200@kaistrandskov.com
SUMMARY:Bucharest Drinking Team\, and Oceans of Mars
DESCRIPTION:with Rat City Ruckus\, Poop Attack!\, Warning: Danger!\, Fabulous Downey Brothers\, Last Gasp\, Kids on Fire\, Mega Tiger\, and Botherations.
URL:https://kaistrandskov.com/event/bucharest-drinking-team-and-oceans-of-mars/
END:VEVENT
BEGIN:VEVENT
DTSTART;TZID=Asia/Dubai:20120922T210000
DTEND;TZID=Asia/Dubai:20120922T210000
DTSTAMP:20260424T193847
CREATED:20250831T101507Z
LAST-MODIFIED:20250831T101507Z
UID:2579-1348347600-1348347600@kaistrandskov.com
SUMMARY:Shiplosion
DESCRIPTION:
URL:https://kaistrandskov.com/event/shiplosion-19/
END:VEVENT
BEGIN:VEVENT
DTSTART;TZID=Asia/Dubai:20120921T210000
DTEND;TZID=Asia/Dubai:20120921T210000
DTSTAMP:20260424T193847
CREATED:20250831T101506Z
LAST-MODIFIED:20250831T101506Z
UID:2578-1348261200-1348261200@kaistrandskov.com
SUMMARY:Shiplosion
DESCRIPTION:
URL:https://kaistrandskov.com/event/shiplosion-18/
END:VEVENT
BEGIN:VEVENT
DTSTART;TZID=Asia/Dubai:20120920T210000
DTEND;TZID=Asia/Dubai:20120920T210000
DTSTAMP:20260424T193847
CREATED:20250831T101506Z
LAST-MODIFIED:20250831T101506Z
UID:2577-1348174800-1348174800@kaistrandskov.com
SUMMARY:Shiplosion
DESCRIPTION:
URL:https://kaistrandskov.com/event/shiplosion-17/
END:VEVENT
BEGIN:VEVENT
DTSTART;TZID=Asia/Dubai:20120908T140000
DTEND;TZID=Asia/Dubai:20120908T140000
DTSTAMP:20260424T193847
CREATED:20250831T101434Z
LAST-MODIFIED:20250831T101434Z
UID:2575-1347112800-1347112800@kaistrandskov.com
SUMMARY:Bucharest Drinking Team
DESCRIPTION:
URL:https://kaistrandskov.com/event/bucharest-drinking-team-54/
LOCATION:Tilth Harvest Fair
END:VEVENT
BEGIN:VEVENT
DTSTART;TZID=Asia/Dubai:20120825T210000
DTEND;TZID=Asia/Dubai:20120825T210000
DTSTAMP:20260424T193847
CREATED:20250831T101434Z
LAST-MODIFIED:20250831T101434Z
UID:2574-1345928400-1345928400@kaistrandskov.com
SUMMARY:Shiplosion
DESCRIPTION:
URL:https://kaistrandskov.com/event/shiplosion-16/
END:VEVENT
BEGIN:VEVENT
DTSTART;TZID=Asia/Dubai:20120807T210000
DTEND;TZID=Asia/Dubai:20120807T210000
DTSTAMP:20260424T193847
CREATED:20250831T101434Z
LAST-MODIFIED:20250831T101434Z
UID:2573-1344373200-1344373200@kaistrandskov.com
SUMMARY:Oceans of Mars
DESCRIPTION:
URL:https://kaistrandskov.com/event/oceans-of-mars-2/
END:VEVENT
BEGIN:VEVENT
DTSTART;TZID=Asia/Dubai:20120803T210000
DTEND;TZID=Asia/Dubai:20120803T210000
DTSTAMP:20260424T193847
CREATED:20250831T101434Z
LAST-MODIFIED:20250831T101434Z
UID:2572-1344027600-1344027600@kaistrandskov.com
SUMMARY:Shiplosion
DESCRIPTION:
URL:https://kaistrandskov.com/event/shiplosion-15/
END:VEVENT
BEGIN:VEVENT
DTSTART;TZID=Asia/Dubai:20120721T210000
DTEND;TZID=Asia/Dubai:20120721T210000
DTSTAMP:20260424T193847
CREATED:20250831T101434Z
LAST-MODIFIED:20250831T101434Z
UID:2571-1342904400-1342904400@kaistrandskov.com
SUMMARY:Bucharest Drinking Team
DESCRIPTION:
URL:https://kaistrandskov.com/event/bucharest-drinking-team-53/
END:VEVENT
BEGIN:VEVENT
DTSTART;TZID=Asia/Dubai:20120708T210000
DTEND;TZID=Asia/Dubai:20120708T210000
DTSTAMP:20260424T193847
CREATED:20250831T101422Z
LAST-MODIFIED:20250831T101422Z
UID:2569-1341781200-1341781200@kaistrandskov.com
SUMMARY:Shiplosion
DESCRIPTION:
URL:https://kaistrandskov.com/event/shiplosion-14/
END:VEVENT
BEGIN:VEVENT
DTSTART;TZID=Asia/Dubai:20120708T160000
DTEND;TZID=Asia/Dubai:20120708T160000
DTSTAMP:20260424T193847
CREATED:20250831T101422Z
LAST-MODIFIED:20250831T101422Z
UID:2570-1341763200-1341763200@kaistrandskov.com
SUMMARY:Bucharest Drinking Team
DESCRIPTION:
URL:https://kaistrandskov.com/event/bucharest-drinking-team-52/
END:VEVENT
BEGIN:VEVENT
DTSTART;TZID=Asia/Dubai:20120619T210000
DTEND;TZID=Asia/Dubai:20120619T210000
DTSTAMP:20260424T193847
CREATED:20250831T101422Z
LAST-MODIFIED:20250831T101422Z
UID:2568-1340139600-1340139600@kaistrandskov.com
SUMMARY:Bucharest Drinking Team
DESCRIPTION:
URL:https://kaistrandskov.com/event/bucharest-drinking-team-51/
END:VEVENT
BEGIN:VEVENT
DTSTART;TZID=Asia/Dubai:20120611T173000
DTEND;TZID=Asia/Dubai:20120611T173000
DTSTAMP:20260424T193847
CREATED:20250831T101421Z
LAST-MODIFIED:20250831T101421Z
UID:2567-1339435800-1339435800@kaistrandskov.com
SUMMARY:Smidgen
DESCRIPTION:
URL:https://kaistrandskov.com/event/smidgen/
LOCATION:Britt Festival\, Jacksonville\, OR\, United States
END:VEVENT
BEGIN:VEVENT
DTSTART;TZID=Asia/Dubai:20120608T210000
DTEND;TZID=Asia/Dubai:20120608T210000
DTSTAMP:20260424T193847
CREATED:20250831T101421Z
LAST-MODIFIED:20250831T101421Z
UID:2566-1339189200-1339189200@kaistrandskov.com
SUMMARY:Shiplosion
DESCRIPTION:
URL:https://kaistrandskov.com/event/shiplosion-13/
END:VEVENT
BEGIN:VEVENT
DTSTART;TZID=Asia/Dubai:20120531T210000
DTEND;TZID=Asia/Dubai:20120531T210000
DTSTAMP:20260424T193847
CREATED:20250831T101414Z
LAST-MODIFIED:20250831T101414Z
UID:2564-1338498000-1338498000@kaistrandskov.com
SUMMARY:Bucharest Drinking Team
DESCRIPTION:
URL:https://kaistrandskov.com/event/bucharest-drinking-team-50/
END:VEVENT
BEGIN:VEVENT
DTSTART;TZID=Asia/Dubai:20120528T171000
DTEND;TZID=Asia/Dubai:20120528T171000
DTSTAMP:20260424T193847
CREATED:20250831T101414Z
LAST-MODIFIED:20250831T101414Z
UID:2563-1338225000-1338225000@kaistrandskov.com
SUMMARY:Bucharest Drinking Team
DESCRIPTION:
URL:https://kaistrandskov.com/event/bucharest-drinking-team-49/
LOCATION:Seattle Center – South-East Lawn\, Seattle\, WA\, United States
END:VEVENT
BEGIN:VEVENT
DTSTART;TZID=Asia/Dubai:20120526T210000
DTEND;TZID=Asia/Dubai:20120526T210000
DTSTAMP:20260424T193847
CREATED:20250831T101414Z
LAST-MODIFIED:20250831T101414Z
UID:2562-1338066000-1338066000@kaistrandskov.com
SUMMARY:Shiplosion
DESCRIPTION:
URL:https://kaistrandskov.com/event/shiplosion-12/
END:VEVENT
BEGIN:VEVENT
DTSTART;TZID=Asia/Dubai:20120525T213000
DTEND;TZID=Asia/Dubai:20120525T213000
DTSTAMP:20260424T193847
CREATED:20250831T101332Z
LAST-MODIFIED:20250831T101332Z
UID:2559-1337981400-1337981400@kaistrandskov.com
SUMMARY:Bucharest Drinking Team
DESCRIPTION:
URL:https://kaistrandskov.com/event/bucharest-drinking-team-47/
END:VEVENT
BEGIN:VEVENT
DTSTART;TZID=Asia/Dubai:20120525T193000
DTEND;TZID=Asia/Dubai:20120525T193000
DTSTAMP:20260424T193847
CREATED:20250831T101414Z
LAST-MODIFIED:20250831T101414Z
UID:2561-1337974200-1337974200@kaistrandskov.com
SUMMARY:Bucharest Drinking Team
DESCRIPTION:
URL:https://kaistrandskov.com/event/bucharest-drinking-team-48/
LOCATION:Seattle Center Fountain Stage
END:VEVENT
BEGIN:VEVENT
DTSTART;TZID=Asia/Dubai:20120523T210000
DTEND;TZID=Asia/Dubai:20120523T210000
DTSTAMP:20260424T193847
CREATED:20250831T101332Z
LAST-MODIFIED:20250831T101332Z
UID:2558-1337806800-1337806800@kaistrandskov.com
SUMMARY:Shiplosion
DESCRIPTION:
URL:https://kaistrandskov.com/event/shiplosion-11/
END:VEVENT
BEGIN:VEVENT
DTSTART;TZID=Asia/Dubai:20120514T210000
DTEND;TZID=Asia/Dubai:20120514T210000
DTSTAMP:20260424T193847
CREATED:20250831T101332Z
LAST-MODIFIED:20250831T101332Z
UID:2557-1337029200-1337029200@kaistrandskov.com
SUMMARY:Shiplosion
DESCRIPTION:
URL:https://kaistrandskov.com/event/shiplosion-10/
END:VEVENT
BEGIN:VEVENT
DTSTART;TZID=Asia/Dubai:20120421T210000
DTEND;TZID=Asia/Dubai:20120421T210000
DTSTAMP:20260424T193847
CREATED:20250831T101332Z
LAST-MODIFIED:20250831T101332Z
UID:2556-1335042000-1335042000@kaistrandskov.com
SUMMARY:Shiplosion
DESCRIPTION:
URL:https://kaistrandskov.com/event/shiplosion-9/
END:VEVENT
END:VCALENDAR