BEGIN:VCALENDAR
VERSION:2.0
PRODID:-//Kai Strandskov Music - ECPv6.15.17.1//NONSGML v1.0//EN
CALSCALE:GREGORIAN
METHOD:PUBLISH
X-WR-CALNAME:Kai Strandskov Music
X-ORIGINAL-URL:https://kaistrandskov.com
X-WR-CALDESC:Events for Kai Strandskov Music
REFRESH-INTERVAL;VALUE=DURATION:PT1H
X-Robots-Tag:noindex
X-PUBLISHED-TTL:PT1H
BEGIN:VTIMEZONE
TZID:Asia/Dubai
BEGIN:STANDARD
TZOFFSETFROM:+0400
TZOFFSETTO:+0400
TZNAME:+04
DTSTART:20230101T000000
END:STANDARD
END:VTIMEZONE
BEGIN:VEVENT
DTSTART;TZID=Asia/Dubai:20250308T210000
DTEND;TZID=Asia/Dubai:20250308T210000
DTSTAMP:20260422T082434
CREATED:20250831T083121Z
LAST-MODIFIED:20250831T101012Z
UID:2136-1741467600-1741467600@kaistrandskov.com
SUMMARY:Radio Rewind
DESCRIPTION:Radio Rewind plays 4 hours of all your favorite hits from the past and present.
URL:https://kaistrandskov.com/event/radio-rewind-4/
LOCATION:Peabo’s Sports Bar and Grill\, 1700 SE 132nd St\, Mill Creek\, WA\, United States
END:VEVENT
BEGIN:VEVENT
DTSTART;TZID=Asia/Dubai:20250221T210000
DTEND;TZID=Asia/Dubai:20250221T210000
DTSTAMP:20260422T082434
CREATED:20250831T083121Z
LAST-MODIFIED:20250831T101045Z
UID:2135-1740171600-1740171600@kaistrandskov.com
SUMMARY:Radio Rewind
DESCRIPTION:Radio Rewind plays all the hits from the past and present all night long! 9pm – 1am
URL:https://kaistrandskov.com/event/radio-rewind-3/
LOCATION:The Rolling Log
END:VEVENT
BEGIN:VEVENT
DTSTART;TZID=Asia/Dubai:20250201T200000
DTEND;TZID=Asia/Dubai:20250201T200000
DTSTAMP:20260422T082434
CREATED:20250831T083112Z
LAST-MODIFIED:20250831T101157Z
UID:2134-1738440000-1738440000@kaistrandskov.com
SUMMARY:The Drive Through
DESCRIPTION:Echo Relocation (Album release party)\, Pent Up!\, The Drive Through
URL:https://kaistrandskov.com/event/the-drive-through/
LOCATION:Central Saloon\, 207 1st Ave S\, Seattle\, WA\, United States
END:VEVENT
BEGIN:VEVENT
DTSTART;TZID=Asia/Dubai:20250125T200000
DTEND;TZID=Asia/Dubai:20250125T200000
DTSTAMP:20260422T082434
CREATED:20250831T083112Z
LAST-MODIFIED:20250831T101311Z
UID:2133-1737835200-1737835200@kaistrandskov.com
SUMMARY:Mettle Lark
DESCRIPTION:Blue Star Creeper\, Sam Cobra\, and Mettle Lark
URL:https://kaistrandskov.com/event/mettle-lark-2/
LOCATION:Blue Moon Tavern
END:VEVENT
BEGIN:VEVENT
DTSTART;TZID=Asia/Dubai:20250117T210000
DTEND;TZID=Asia/Dubai:20250117T210000
DTSTAMP:20260422T082434
CREATED:20250831T083112Z
LAST-MODIFIED:20250831T101356Z
UID:2132-1737147600-1737147600@kaistrandskov.com
SUMMARY:Radio Rewind
DESCRIPTION:Radio Rewind plays the hits from the past and present all night long! 9pm – 1am
URL:https://kaistrandskov.com/event/radio-rewind-2/
LOCATION:Prohibition Cellars
END:VEVENT
BEGIN:VEVENT
DTSTART;TZID=Asia/Dubai:20250111T210000
DTEND;TZID=Asia/Dubai:20250111T210000
DTSTAMP:20260422T082434
CREATED:20250831T083111Z
LAST-MODIFIED:20250831T101449Z
UID:2131-1736629200-1736629200@kaistrandskov.com
SUMMARY:Radio Rewind
DESCRIPTION:Radio Rewind plays all your favorite hits from the past and present\, all night long.
URL:https://kaistrandskov.com/event/radio-rewind/
LOCATION:Peabo’s Sports Bar and Grill\, 1700 SE 132nd St\, Mill Creek\, WA\, United States
END:VEVENT
BEGIN:VEVENT
DTSTART;TZID=Asia/Dubai:20250103T200000
DTEND;TZID=Asia/Dubai:20250103T200000
DTSTAMP:20260422T082434
CREATED:20250831T083111Z
LAST-MODIFIED:20250831T101534Z
UID:2130-1735934400-1735934400@kaistrandskov.com
SUMMARY:Mettle Lark
DESCRIPTION:Student Nurse\, Nurse Ratchett\, Black Night Crash\, Mettle Lark
URL:https://kaistrandskov.com/event/mettle-lark/
LOCATION:The Tractor
END:VEVENT
BEGIN:VEVENT
DTSTART;TZID=Asia/Dubai:20241220T210000
DTEND;TZID=Asia/Dubai:20241220T210000
DTSTAMP:20260422T082434
CREATED:20250831T085644Z
LAST-MODIFIED:20250831T101637Z
UID:2214-1734728400-1734728400@kaistrandskov.com
SUMMARY:Radio Rewind
DESCRIPTION:Radio Rewind plays all your favorite hits from the past and present!
URL:https://kaistrandskov.com/event/radio-rewind-16/
LOCATION:Elmer’s Bar & Grill\, 15027 Ambaum Blvd SW\, Burien\, WA\, 98166\, United States
END:VEVENT
BEGIN:VEVENT
DTSTART;TZID=Asia/Dubai:20241109T210000
DTEND;TZID=Asia/Dubai:20241109T210000
DTSTAMP:20260422T082434
CREATED:20250831T085644Z
LAST-MODIFIED:20250831T085644Z
UID:2213-1731186000-1731186000@kaistrandskov.com
SUMMARY:Radio Rewind
DESCRIPTION:
URL:https://kaistrandskov.com/event/radio-rewind-15/
LOCATION:CA
END:VEVENT
BEGIN:VEVENT
DTSTART;TZID=Asia/Dubai:20241021T200000
DTEND;TZID=Asia/Dubai:20241021T200000
DTSTAMP:20260422T082434
CREATED:20250831T085444Z
LAST-MODIFIED:20250831T085444Z
UID:2212-1729540800-1729540800@kaistrandskov.com
SUMMARY:Maiden Moss
DESCRIPTION:
URL:https://kaistrandskov.com/event/maiden-moss-16/
LOCATION:The Tractor
END:VEVENT
BEGIN:VEVENT
DTSTART;TZID=Asia/Dubai:20241019T200000
DTEND;TZID=Asia/Dubai:20241019T200000
DTSTAMP:20260422T082434
CREATED:20250831T085443Z
LAST-MODIFIED:20250831T085443Z
UID:2211-1729368000-1729368000@kaistrandskov.com
SUMMARY:Just
DESCRIPTION:
URL:https://kaistrandskov.com/event/just/
LOCATION:Backfire Motobar
END:VEVENT
BEGIN:VEVENT
DTSTART;TZID=Asia/Dubai:20241017T200000
DTEND;TZID=Asia/Dubai:20241017T200000
DTSTAMP:20260422T082434
CREATED:20250831T085443Z
LAST-MODIFIED:20250831T085443Z
UID:2210-1729195200-1729195200@kaistrandskov.com
SUMMARY:Maiden Moss\, The Drive Through
DESCRIPTION:
URL:https://kaistrandskov.com/event/maiden-moss-the-drive-through/
LOCATION:Conway Muse
END:VEVENT
BEGIN:VEVENT
DTSTART;TZID=Asia/Dubai:20241012T200000
DTEND;TZID=Asia/Dubai:20241012T200000
DTSTAMP:20260422T082434
CREATED:20250831T085443Z
LAST-MODIFIED:20250831T085443Z
UID:2209-1728763200-1728763200@kaistrandskov.com
SUMMARY:Maiden Moss
DESCRIPTION:
URL:https://kaistrandskov.com/event/maiden-moss-15/
LOCATION:The Valley
END:VEVENT
BEGIN:VEVENT
DTSTART;TZID=Asia/Dubai:20240922T173000
DTEND;TZID=Asia/Dubai:20240922T173000
DTSTAMP:20260422T082434
CREATED:20250831T085443Z
LAST-MODIFIED:20250831T085443Z
UID:2208-1727026200-1727026200@kaistrandskov.com
SUMMARY:Smilin' Scandinavians
DESCRIPTION:
URL:https://kaistrandskov.com/event/smilin-scandinavians-3/
LOCATION:Nordic Museum\, 3014 NW 67th St\, Seattle
END:VEVENT
BEGIN:VEVENT
DTSTART;TZID=Asia/Dubai:20240920T200000
DTEND;TZID=Asia/Dubai:20240920T200000
DTSTAMP:20260422T082434
CREATED:20250831T085243Z
LAST-MODIFIED:20250831T085243Z
UID:2207-1726862400-1726862400@kaistrandskov.com
SUMMARY:Mettle Lark
DESCRIPTION:
URL:https://kaistrandskov.com/event/mettle-lark-16/
LOCATION:Conor Byrne
END:VEVENT
BEGIN:VEVENT
DTSTART;TZID=Asia/Dubai:20240914T200000
DTEND;TZID=Asia/Dubai:20240914T200000
DTSTAMP:20260422T082434
CREATED:20250831T085242Z
LAST-MODIFIED:20250831T085242Z
UID:2206-1726344000-1726344000@kaistrandskov.com
SUMMARY:Maiden Moss
DESCRIPTION:
URL:https://kaistrandskov.com/event/maiden-moss-14/
LOCATION:Honey Moon
END:VEVENT
BEGIN:VEVENT
DTSTART;TZID=Asia/Dubai:20240908T200000
DTEND;TZID=Asia/Dubai:20240908T200000
DTSTAMP:20260422T082434
CREATED:20250831T085242Z
LAST-MODIFIED:20250831T085242Z
UID:2205-1725825600-1725825600@kaistrandskov.com
SUMMARY:Maiden Moss
DESCRIPTION:
URL:https://kaistrandskov.com/event/maiden-moss-13/
LOCATION:The Lucky Dime
END:VEVENT
BEGIN:VEVENT
DTSTART;TZID=Asia/Dubai:20240907T200000
DTEND;TZID=Asia/Dubai:20240907T200000
DTSTAMP:20260422T082434
CREATED:20250831T085242Z
LAST-MODIFIED:20250831T085242Z
UID:2204-1725739200-1725739200@kaistrandskov.com
SUMMARY:Maiden Moss
DESCRIPTION:
URL:https://kaistrandskov.com/event/maiden-moss-12/
LOCATION:Belltown Yacht Club
END:VEVENT
BEGIN:VEVENT
DTSTART;TZID=Asia/Dubai:20240906T180000
DTEND;TZID=Asia/Dubai:20240906T180000
DTSTAMP:20260422T082434
CREATED:20250831T085242Z
LAST-MODIFIED:20250831T085242Z
UID:2203-1725645600-1725645600@kaistrandskov.com
SUMMARY:Radio Rewind
DESCRIPTION:
URL:https://kaistrandskov.com/event/radio-rewind-14/
LOCATION:Prohibition Cellars
END:VEVENT
BEGIN:VEVENT
DTSTART;TZID=Asia/Dubai:20240825T140000
DTEND;TZID=Asia/Dubai:20240825T140000
DTSTAMP:20260422T082434
CREATED:20250831T085041Z
LAST-MODIFIED:20250831T085041Z
UID:2202-1724594400-1724594400@kaistrandskov.com
SUMMARY:The Smilin Scandinavians
DESCRIPTION:WA State Garlic Fest
URL:https://kaistrandskov.com/event/the-smilin-scandinavians/
LOCATION:Southwest Washington Fairgrounds
END:VEVENT
BEGIN:VEVENT
DTSTART;TZID=Asia/Dubai:20240824T200000
DTEND;TZID=Asia/Dubai:20240824T200000
DTSTAMP:20260422T082434
CREATED:20250831T085041Z
LAST-MODIFIED:20250831T085041Z
UID:2201-1724529600-1724529600@kaistrandskov.com
SUMMARY:Mettle Lark
DESCRIPTION:Doors at 6pm\, music starts at 7pm. Tickets $20 in advance\, $25 at the door. Join us for our annual OK Hotel Summer Throwdown\, featuring a Steve Gilbert OK Hotel Photo Exhibit and a full night of music with Hillside 77\, Last Minute Maybes\, Can of Clouds\, Monster Creep\, and Mettle Lark.
URL:https://kaistrandskov.com/event/mettle-lark-15/
LOCATION:The Royal Room\, 5000 Rainier Avenue S\, Seattle\, 98118\, United States
END:VEVENT
BEGIN:VEVENT
DTSTART;TZID=Asia/Dubai:20240823T200000
DTEND;TZID=Asia/Dubai:20240823T200000
DTSTAMP:20260422T082434
CREATED:20250831T085041Z
LAST-MODIFIED:20250831T085041Z
UID:2200-1724443200-1724443200@kaistrandskov.com
SUMMARY:Mettle Lark
DESCRIPTION:Frontera Dogs : featuring Dra Gabriella Gutiérrez y MuhsNorthwest Experimental Guitar Orchestra–> Mettle Lark – 8pmNorthwest Experimental Guitar OrchestraStudent NurseMetal Men Saturday August 24 Non ModernYoung ScientistLuna MossYoung ScientistStudent An amazing 2 nights of music\, light\, and poetry at the historic Georgetown Steam Plant! $10-20 at the door. Bring your camera\, there is lot’s of fun stuff to photograph! Beverages to be had\, Food by Yakimono. All ages! NurseMetal Men
URL:https://kaistrandskov.com/event/mettle-lark-14/
LOCATION:Georgetown Steam Plant
END:VEVENT
BEGIN:VEVENT
DTSTART;TZID=Asia/Dubai:20240816T200000
DTEND;TZID=Asia/Dubai:20240816T200000
DTSTAMP:20260422T082434
CREATED:20250831T085041Z
LAST-MODIFIED:20250831T085041Z
UID:2199-1723838400-1723838400@kaistrandskov.com
SUMMARY:Maiden Moss
DESCRIPTION:
URL:https://kaistrandskov.com/event/maiden-moss-11/
LOCATION:Bad Bar
END:VEVENT
BEGIN:VEVENT
DTSTART;TZID=Asia/Dubai:20240815T190000
DTEND;TZID=Asia/Dubai:20240815T190000
DTSTAMP:20260422T082434
CREATED:20250831T085040Z
LAST-MODIFIED:20250831T085040Z
UID:2198-1723748400-1723748400@kaistrandskov.com
SUMMARY:Maiden Moss
DESCRIPTION:
URL:https://kaistrandskov.com/event/maiden-moss-10/
LOCATION:Old Skool’s
END:VEVENT
BEGIN:VEVENT
DTSTART;TZID=Asia/Dubai:20240813T190000
DTEND;TZID=Asia/Dubai:20240813T190000
DTSTAMP:20260422T082434
CREATED:20250831T085026Z
LAST-MODIFIED:20250831T085026Z
UID:2197-1723575600-1723575600@kaistrandskov.com
SUMMARY:Maiden Moss
DESCRIPTION:
URL:https://kaistrandskov.com/event/maiden-moss-9/
LOCATION:Rhythms Coffee
END:VEVENT
BEGIN:VEVENT
DTSTART;TZID=Asia/Dubai:20240810T183000
DTEND;TZID=Asia/Dubai:20240810T183000
DTSTAMP:20260422T082434
CREATED:20250831T085026Z
LAST-MODIFIED:20250831T085026Z
UID:2196-1723314600-1723314600@kaistrandskov.com
SUMMARY:Maiden Moss
DESCRIPTION:
URL:https://kaistrandskov.com/event/maiden-moss-8/
LOCATION:Coast Fork Brewing
END:VEVENT
BEGIN:VEVENT
DTSTART;TZID=Asia/Dubai:20240808T193000
DTEND;TZID=Asia/Dubai:20240808T193000
DTSTAMP:20260422T082434
CREATED:20250831T085026Z
LAST-MODIFIED:20250831T085026Z
UID:2195-1723145400-1723145400@kaistrandskov.com
SUMMARY:Maiden Moss
DESCRIPTION:
URL:https://kaistrandskov.com/event/maiden-moss-7/
LOCATION:Conway Muse
END:VEVENT
BEGIN:VEVENT
DTSTART;TZID=Asia/Dubai:20240806T183000
DTEND;TZID=Asia/Dubai:20240806T183000
DTSTAMP:20260422T082434
CREATED:20250831T085025Z
LAST-MODIFIED:20250831T085025Z
UID:2194-1722969000-1722969000@kaistrandskov.com
SUMMARY:Maiden Moss
DESCRIPTION:
URL:https://kaistrandskov.com/event/maiden-moss-6/
LOCATION:Atlantis Lounge
END:VEVENT
BEGIN:VEVENT
DTSTART;TZID=Asia/Dubai:20240803T200000
DTEND;TZID=Asia/Dubai:20240803T200000
DTSTAMP:20260422T082434
CREATED:20250831T085025Z
LAST-MODIFIED:20250831T085025Z
UID:2193-1722715200-1722715200@kaistrandskov.com
SUMMARY:The Thrill
DESCRIPTION:
URL:https://kaistrandskov.com/event/the-thrill-3/
LOCATION:The Valley
END:VEVENT
BEGIN:VEVENT
DTSTART;TZID=Asia/Dubai:20240727T140000
DTEND;TZID=Asia/Dubai:20240727T140000
DTSTAMP:20260422T082434
CREATED:20250831T085007Z
LAST-MODIFIED:20250831T085007Z
UID:2192-1722088800-1722088800@kaistrandskov.com
SUMMARY:Mettle Lark
DESCRIPTION:
URL:https://kaistrandskov.com/event/mettle-lark-13/
LOCATION:Darrell’s Tavern\, 18041 Aurora Ave N\, Seattle\, 98133\, United States
END:VEVENT
END:VCALENDAR