BEGIN:VCALENDAR
VERSION:2.0
PRODID:-//Kai Strandskov Music - ECPv6.15.17.1//NONSGML v1.0//EN
CALSCALE:GREGORIAN
METHOD:PUBLISH
X-WR-CALNAME:Kai Strandskov Music
X-ORIGINAL-URL:https://kaistrandskov.com
X-WR-CALDESC:Events for Kai Strandskov Music
REFRESH-INTERVAL;VALUE=DURATION:PT1H
X-Robots-Tag:noindex
X-PUBLISHED-TTL:PT1H
BEGIN:VTIMEZONE
TZID:Asia/Dubai
BEGIN:STANDARD
TZOFFSETFROM:+0400
TZOFFSETTO:+0400
TZNAME:+04
DTSTART:20110101T000000
END:STANDARD
END:VTIMEZONE
BEGIN:VEVENT
DTSTART;TZID=Asia/Dubai:20131107T210000
DTEND;TZID=Asia/Dubai:20131107T210000
DTSTAMP:20260424T162520
CREATED:20250831T101233Z
LAST-MODIFIED:20250831T101233Z
UID:2546-1383858000-1383858000@kaistrandskov.com
SUMMARY:Gamer Jam
DESCRIPTION:
URL:https://kaistrandskov.com/event/gamer-jam/
END:VEVENT
BEGIN:VEVENT
DTSTART;TZID=Asia/Dubai:20131012T200000
DTEND;TZID=Asia/Dubai:20131012T200000
DTSTAMP:20260424T162520
CREATED:20250831T101232Z
LAST-MODIFIED:20250831T101232Z
UID:2545-1381608000-1381608000@kaistrandskov.com
SUMMARY:Debaucherauntes
DESCRIPTION:
URL:https://kaistrandskov.com/event/debaucherauntes-2/
END:VEVENT
BEGIN:VEVENT
DTSTART;TZID=Asia/Dubai:20130908T153000
DTEND;TZID=Asia/Dubai:20130908T153000
DTSTAMP:20260424T162520
CREATED:20250831T101232Z
LAST-MODIFIED:20250831T101232Z
UID:2544-1378654200-1378654200@kaistrandskov.com
SUMMARY:Debaucherauntes
DESCRIPTION:Sh’Bang explodes this year with outlandish shenanigans including eye-popping off-road derby action\, 27 live bands\, vaudeville\, circus\, fire performance\, sideshow\, burlesque\, swimming\, dancing\, water sliding\, zip lining\, clay wrestling\, kid’s zone\, food vendors\, interactive theme camping\, workshops\, beer garden\, creative carnival games\, prizes and a whole lot of surprises we can’t even mention on the internet.
URL:https://kaistrandskov.com/event/debaucherauntes/
END:VEVENT
BEGIN:VEVENT
DTSTART;TZID=Asia/Dubai:20130829T200000
DTEND;TZID=Asia/Dubai:20130829T200000
DTSTAMP:20260424T162520
CREATED:20250831T101119Z
LAST-MODIFIED:20250831T101119Z
UID:2540-1377806400-1377806400@kaistrandskov.com
SUMMARY:The Debaucherauntes
DESCRIPTION:8p doors 9p show $7 sugg.  The Underscore Orkestra (PDX):… www.facebook.com/pages/The-Underscore-Orkestra/169648486403306 Fanfare Zambaleta (SFO): www.facebook.com/FanfareZambaleta The Debaucherauntes (SEA): www.facebook.com/thedebaucherauntes
URL:https://kaistrandskov.com/event/the-debaucherauntes-67/
END:VEVENT
BEGIN:VEVENT
DTSTART;TZID=Asia/Dubai:20130808T210000
DTEND;TZID=Asia/Dubai:20130808T210000
DTSTAMP:20260424T162520
CREATED:20250831T101119Z
LAST-MODIFIED:20250831T101119Z
UID:2539-1375995600-1375995600@kaistrandskov.com
SUMMARY:Gamer Jam 5
DESCRIPTION:
URL:https://kaistrandskov.com/event/gamer-jam-5/
END:VEVENT
BEGIN:VEVENT
DTSTART;TZID=Asia/Dubai:20130803T210000
DTEND;TZID=Asia/Dubai:20130803T210000
DTSTAMP:20260424T162520
CREATED:20250831T101118Z
LAST-MODIFIED:20250831T101118Z
UID:2538-1375563600-1375563600@kaistrandskov.com
SUMMARY:Bucharest Drinking Team
DESCRIPTION:
URL:https://kaistrandskov.com/event/bucharest-drinking-team-41/
END:VEVENT
BEGIN:VEVENT
DTSTART;TZID=Asia/Dubai:20130802T210000
DTEND;TZID=Asia/Dubai:20130802T210000
DTSTAMP:20260424T162520
CREATED:20250831T101118Z
LAST-MODIFIED:20250831T101118Z
UID:2537-1375477200-1375477200@kaistrandskov.com
SUMMARY:Bucharest Drinking Team
DESCRIPTION:
URL:https://kaistrandskov.com/event/bucharest-drinking-team-40/
END:VEVENT
BEGIN:VEVENT
DTSTART;TZID=Asia/Dubai:20130711T210000
DTEND;TZID=Asia/Dubai:20130711T210000
DTSTAMP:20260424T162520
CREATED:20250831T101109Z
LAST-MODIFIED:20250831T101109Z
UID:2535-1373576400-1373576400@kaistrandskov.com
SUMMARY:Shiplosion
DESCRIPTION:
URL:https://kaistrandskov.com/event/shiplosion-7/
END:VEVENT
BEGIN:VEVENT
DTSTART;TZID=Asia/Dubai:20130607T210000
DTEND;TZID=Asia/Dubai:20130607T210000
DTSTAMP:20260424T162520
CREATED:20250831T101108Z
LAST-MODIFIED:20250831T101108Z
UID:2533-1370638800-1370638800@kaistrandskov.com
SUMMARY:Shiplosion
DESCRIPTION:
URL:https://kaistrandskov.com/event/shiplosion-6/
END:VEVENT
BEGIN:VEVENT
DTSTART;TZID=Asia/Dubai:20130525T184500
DTEND;TZID=Asia/Dubai:20130525T184500
DTSTAMP:20260424T162520
CREATED:20250831T101107Z
LAST-MODIFIED:20250831T101107Z
UID:2532-1369507500-1369507500@kaistrandskov.com
SUMMARY:Bucharest Drinking Team at FolkLife Festival
DESCRIPTION:
URL:https://kaistrandskov.com/event/bucharest-drinking-team-at-folklife-festival/
END:VEVENT
BEGIN:VEVENT
DTSTART;TZID=Asia/Dubai:20130524T200000
DTEND;TZID=Asia/Dubai:20130524T200000
DTSTAMP:20260424T162520
CREATED:20250831T101031Z
LAST-MODIFIED:20250831T101031Z
UID:2530-1369425600-1369425600@kaistrandskov.com
SUMMARY:Bucharest Drinking Team
DESCRIPTION:
URL:https://kaistrandskov.com/event/bucharest-drinking-team-39/
END:VEVENT
BEGIN:VEVENT
DTSTART;TZID=Asia/Dubai:20130518T140000
DTEND;TZID=Asia/Dubai:20130518T140000
DTSTAMP:20260424T162520
CREATED:20250831T101031Z
LAST-MODIFIED:20250831T101031Z
UID:2529-1368885600-1368885600@kaistrandskov.com
SUMMARY:Josh Lanza and friends
DESCRIPTION:
URL:https://kaistrandskov.com/event/josh-lanza-and-friends/
END:VEVENT
BEGIN:VEVENT
DTSTART;TZID=Asia/Dubai:20130517T210000
DTEND;TZID=Asia/Dubai:20130517T210000
DTSTAMP:20260424T162520
CREATED:20250831T101031Z
LAST-MODIFIED:20250831T101031Z
UID:2528-1368824400-1368824400@kaistrandskov.com
SUMMARY:Bucharest Drinking Team
DESCRIPTION:
URL:https://kaistrandskov.com/event/bucharest-drinking-team-38/
END:VEVENT
BEGIN:VEVENT
DTSTART;TZID=Asia/Dubai:20130510T210000
DTEND;TZID=Asia/Dubai:20130510T210000
DTSTAMP:20260424T162520
CREATED:20250831T101031Z
LAST-MODIFIED:20250831T101031Z
UID:2527-1368219600-1368219600@kaistrandskov.com
SUMMARY:Gamer Jam 4.0
DESCRIPTION:
URL:https://kaistrandskov.com/event/gamer-jam-4-0/
END:VEVENT
BEGIN:VEVENT
DTSTART;TZID=Asia/Dubai:20130427T210000
DTEND;TZID=Asia/Dubai:20130427T210000
DTSTAMP:20260424T162520
CREATED:20250831T101031Z
LAST-MODIFIED:20250831T101031Z
UID:2526-1367096400-1367096400@kaistrandskov.com
SUMMARY:Bucharest Drinking Team
DESCRIPTION:
URL:https://kaistrandskov.com/event/bucharest-drinking-team-37/
END:VEVENT
BEGIN:VEVENT
DTSTART;TZID=Asia/Dubai:20130411T210000
DTEND;TZID=Asia/Dubai:20130411T210000
DTSTAMP:20260424T162520
CREATED:20250831T100955Z
LAST-MODIFIED:20250831T100955Z
UID:2524-1365714000-1365714000@kaistrandskov.com
SUMMARY:Shiplosion
DESCRIPTION:
URL:https://kaistrandskov.com/event/shiplosion-5/
END:VEVENT
BEGIN:VEVENT
DTSTART;TZID=Asia/Dubai:20130406T210000
DTEND;TZID=Asia/Dubai:20130406T210000
DTSTAMP:20260424T162520
CREATED:20250831T100955Z
LAST-MODIFIED:20250831T100955Z
UID:2523-1365282000-1365282000@kaistrandskov.com
SUMMARY:Shiplosion
DESCRIPTION:
URL:https://kaistrandskov.com/event/shiplosion-4/
END:VEVENT
BEGIN:VEVENT
DTSTART;TZID=Asia/Dubai:20130404T210000
DTEND;TZID=Asia/Dubai:20130404T210000
DTSTAMP:20260424T162520
CREATED:20250831T100954Z
LAST-MODIFIED:20250831T100954Z
UID:2522-1365109200-1365109200@kaistrandskov.com
SUMMARY:Gamer Jam 3.0
DESCRIPTION:
URL:https://kaistrandskov.com/event/gamer-jam-3-0/
END:VEVENT
BEGIN:VEVENT
DTSTART;TZID=Asia/Dubai:20130302T203000
DTEND;TZID=Asia/Dubai:20130302T203000
DTSTAMP:20260424T162520
CREATED:20250831T100913Z
LAST-MODIFIED:20250831T100913Z
UID:2518-1362256200-1362256200@kaistrandskov.com
SUMMARY:Bucharest Drinking Team
DESCRIPTION:BLACKMOOR TRAVELLING PICTURE SHOW
URL:https://kaistrandskov.com/event/bucharest-drinking-team-36/
END:VEVENT
BEGIN:VEVENT
DTSTART;TZID=Asia/Dubai:20130228T210000
DTEND;TZID=Asia/Dubai:20130228T210000
DTSTAMP:20260424T162520
CREATED:20250831T100913Z
LAST-MODIFIED:20250831T100913Z
UID:2517-1362085200-1362085200@kaistrandskov.com
SUMMARY:Gamer Jam 2.0
DESCRIPTION:
URL:https://kaistrandskov.com/event/gamer-jam-2-0/
END:VEVENT
BEGIN:VEVENT
DTSTART;TZID=Asia/Dubai:20130221T210000
DTEND;TZID=Asia/Dubai:20130221T210000
DTSTAMP:20260424T162520
CREATED:20250831T100912Z
LAST-MODIFIED:20250831T100912Z
UID:2516-1361480400-1361480400@kaistrandskov.com
SUMMARY:Bucharest Drinking Team
DESCRIPTION:
URL:https://kaistrandskov.com/event/bucharest-drinking-team-35/
END:VEVENT
BEGIN:VEVENT
DTSTART;TZID=Asia/Dubai:20130216T210000
DTEND;TZID=Asia/Dubai:20130216T210000
DTSTAMP:20260424T162520
CREATED:20250831T100912Z
LAST-MODIFIED:20250831T100912Z
UID:2515-1361048400-1361048400@kaistrandskov.com
SUMMARY:Shiplosion
DESCRIPTION:
URL:https://kaistrandskov.com/event/shiplosion-3/
END:VEVENT
BEGIN:VEVENT
DTSTART;TZID=Asia/Dubai:20130123T210000
DTEND;TZID=Asia/Dubai:20130123T210000
DTSTAMP:20260424T162520
CREATED:20250831T100808Z
LAST-MODIFIED:20250831T100808Z
UID:2512-1358974800-1358974800@kaistrandskov.com
SUMMARY:Shiplosion
DESCRIPTION:
URL:https://kaistrandskov.com/event/shiplosion-2/
END:VEVENT
BEGIN:VEVENT
DTSTART;TZID=Asia/Dubai:20130116T210000
DTEND;TZID=Asia/Dubai:20130116T210000
DTSTAMP:20260424T162520
CREATED:20250831T100808Z
LAST-MODIFIED:20250831T100808Z
UID:2511-1358370000-1358370000@kaistrandskov.com
SUMMARY:Bucharest Drinking Team
DESCRIPTION:with Flying Balalaika Brothers
URL:https://kaistrandskov.com/event/bucharest-drinking-team-34/
END:VEVENT
BEGIN:VEVENT
DTSTART;TZID=Asia/Dubai:20130111T210000
DTEND;TZID=Asia/Dubai:20130111T210000
DTSTAMP:20260424T162520
CREATED:20250831T100808Z
LAST-MODIFIED:20250831T100808Z
UID:2510-1357938000-1357938000@kaistrandskov.com
SUMMARY:Shiplosion
DESCRIPTION:
URL:https://kaistrandskov.com/event/shiplosion/
END:VEVENT
BEGIN:VEVENT
DTSTART;TZID=Asia/Dubai:20130105T210000
DTEND;TZID=Asia/Dubai:20130105T210000
DTSTAMP:20260424T162520
CREATED:20250831T100808Z
LAST-MODIFIED:20250831T100808Z
UID:2509-1357419600-1357419600@kaistrandskov.com
SUMMARY:Bucharest Drinking Team
DESCRIPTION:
URL:https://kaistrandskov.com/event/bucharest-drinking-team-33/
END:VEVENT
BEGIN:VEVENT
DTSTART;TZID=Asia/Dubai:20121213T210000
DTEND;TZID=Asia/Dubai:20121213T210000
DTSTAMP:20260424T162520
CREATED:20250831T101607Z
LAST-MODIFIED:20250831T101607Z
UID:2588-1355432400-1355432400@kaistrandskov.com
SUMMARY:Sitting in with Marchette DuBois and James Hoskins
DESCRIPTION:I’ll probably play some darbuka  on a few tunes.
URL:https://kaistrandskov.com/event/sitting-in-with-marchette-dubois-and-james-hoskins/
END:VEVENT
BEGIN:VEVENT
DTSTART;TZID=Asia/Dubai:20121207T210000
DTEND;TZID=Asia/Dubai:20121207T210000
DTSTAMP:20260424T162520
CREATED:20250831T101518Z
LAST-MODIFIED:20250831T101518Z
UID:2586-1354914000-1354914000@kaistrandskov.com
SUMMARY:Bucharest Drinking Team
DESCRIPTION:
URL:https://kaistrandskov.com/event/bucharest-drinking-team-56/
END:VEVENT
BEGIN:VEVENT
DTSTART;TZID=Asia/Dubai:20121201T210000
DTEND;TZID=Asia/Dubai:20121201T210000
DTSTAMP:20260424T162520
CREATED:20250831T101517Z
LAST-MODIFIED:20250831T101517Z
UID:2585-1354395600-1354395600@kaistrandskov.com
SUMMARY:Bucharest Drinking Team
DESCRIPTION:with Annie Ford Band and Fabulous Downey Brothers.
URL:https://kaistrandskov.com/event/bucharest-drinking-team-55/
END:VEVENT
BEGIN:VEVENT
DTSTART;TZID=Asia/Dubai:20121129T210000
DTEND;TZID=Asia/Dubai:20121129T210000
DTSTAMP:20260424T162520
CREATED:20250831T101517Z
LAST-MODIFIED:20250831T101517Z
UID:2584-1354222800-1354222800@kaistrandskov.com
SUMMARY:Shiplosion
DESCRIPTION:
URL:https://kaistrandskov.com/event/shiplosion-21/
END:VEVENT
END:VCALENDAR