BEGIN:VCALENDAR
VERSION:2.0
PRODID:-//Kai Strandskov Music - ECPv6.15.17.1//NONSGML v1.0//EN
CALSCALE:GREGORIAN
METHOD:PUBLISH
X-WR-CALNAME:Kai Strandskov Music
X-ORIGINAL-URL:https://kaistrandskov.com
X-WR-CALDESC:Events for Kai Strandskov Music
REFRESH-INTERVAL;VALUE=DURATION:PT1H
X-Robots-Tag:noindex
X-PUBLISHED-TTL:PT1H
BEGIN:VTIMEZONE
TZID:Asia/Dubai
BEGIN:STANDARD
TZOFFSETFROM:+0400
TZOFFSETTO:+0400
TZNAME:+04
DTSTART:20140101T000000
END:STANDARD
END:VTIMEZONE
BEGIN:VEVENT
DTSTART;TZID=Asia/Dubai:20160411T210000
DTEND;TZID=Asia/Dubai:20160411T210000
DTSTAMP:20260424T002554
CREATED:20250831T094306Z
LAST-MODIFIED:20250831T094306Z
UID:2375-1460408400-1460408400@kaistrandskov.com
SUMMARY:Bucharest Drinking Team
DESCRIPTION:
URL:https://kaistrandskov.com/event/bucharest-drinking-team-5/
END:VEVENT
BEGIN:VEVENT
DTSTART;TZID=Asia/Dubai:20160326T210000
DTEND;TZID=Asia/Dubai:20160326T210000
DTSTAMP:20260424T002554
CREATED:20250831T094256Z
LAST-MODIFIED:20250831T094256Z
UID:2373-1459026000-1459026000@kaistrandskov.com
SUMMARY:Bucharest Drinking Team
DESCRIPTION:
URL:https://kaistrandskov.com/event/bucharest-drinking-team-4/
END:VEVENT
BEGIN:VEVENT
DTSTART;TZID=Asia/Dubai:20160325T210000
DTEND;TZID=Asia/Dubai:20160325T210000
DTSTAMP:20260424T002554
CREATED:20250831T094256Z
LAST-MODIFIED:20250831T094256Z
UID:2372-1458939600-1458939600@kaistrandskov.com
SUMMARY:The Debaucherauntes
DESCRIPTION:
URL:https://kaistrandskov.com/event/the-debaucherauntes-37/
END:VEVENT
BEGIN:VEVENT
DTSTART;TZID=Asia/Dubai:20160311T210000
DTEND;TZID=Asia/Dubai:20160311T210000
DTSTAMP:20260424T002554
CREATED:20250831T094255Z
LAST-MODIFIED:20250831T094255Z
UID:2371-1457730000-1457730000@kaistrandskov.com
SUMMARY:The m9
DESCRIPTION:
URL:https://kaistrandskov.com/event/the-m9-4/
END:VEVENT
BEGIN:VEVENT
DTSTART;TZID=Asia/Dubai:20160227T210000
DTEND;TZID=Asia/Dubai:20160227T210000
DTSTAMP:20260424T002554
CREATED:20250831T094246Z
LAST-MODIFIED:20250831T094246Z
UID:2369-1456606800-1456606800@kaistrandskov.com
SUMMARY:Bucharest Drinking Team
DESCRIPTION:
URL:https://kaistrandskov.com/event/bucharest-drinking-team-3/
END:VEVENT
BEGIN:VEVENT
DTSTART;TZID=Asia/Dubai:20160226T210000
DTEND;TZID=Asia/Dubai:20160226T210000
DTSTAMP:20260424T002554
CREATED:20250831T094246Z
LAST-MODIFIED:20250831T094246Z
UID:2368-1456520400-1456520400@kaistrandskov.com
SUMMARY:The Debaucherauntes
DESCRIPTION:
URL:https://kaistrandskov.com/event/the-debaucherauntes-36/
END:VEVENT
BEGIN:VEVENT
DTSTART;TZID=Asia/Dubai:20160205T210000
DTEND;TZID=Asia/Dubai:20160205T210000
DTSTAMP:20260424T002554
CREATED:20250831T094245Z
LAST-MODIFIED:20250831T094245Z
UID:2367-1454706000-1454706000@kaistrandskov.com
SUMMARY:Bucharest Drinking Team
DESCRIPTION:
URL:https://kaistrandskov.com/event/bucharest-drinking-team-2/
END:VEVENT
BEGIN:VEVENT
DTSTART;TZID=Asia/Dubai:20160124T140000
DTEND;TZID=Asia/Dubai:20160124T140000
DTSTAMP:20260424T002554
CREATED:20250831T094245Z
LAST-MODIFIED:20250831T094245Z
UID:2366-1453644000-1453644000@kaistrandskov.com
SUMMARY:Bucharest Drinking Team
DESCRIPTION:
URL:https://kaistrandskov.com/event/bucharest-drinking-team/
LOCATION:SEATTLE Museum of Flight\, Seattle
END:VEVENT
BEGIN:VEVENT
DTSTART;TZID=Asia/Dubai:20160107T210000
DTEND;TZID=Asia/Dubai:20160107T210000
DTSTAMP:20260424T002554
CREATED:20250831T094245Z
LAST-MODIFIED:20250831T094245Z
UID:2365-1452200400-1452200400@kaistrandskov.com
SUMMARY:The Debaucherauntes
DESCRIPTION:
URL:https://kaistrandskov.com/event/the-debaucherauntes-35/
END:VEVENT
BEGIN:VEVENT
DTSTART;TZID=Asia/Dubai:20151221T210000
DTEND;TZID=Asia/Dubai:20151221T210000
DTSTAMP:20260424T002554
CREATED:20250831T100257Z
LAST-MODIFIED:20250831T100257Z
UID:2472-1450731600-1450731600@kaistrandskov.com
SUMMARY:Bucharest Drinking Team
DESCRIPTION:
URL:https://kaistrandskov.com/event/bucharest-drinking-team-27/
END:VEVENT
BEGIN:VEVENT
DTSTART;TZID=Asia/Dubai:20151219T193000
DTEND;TZID=Asia/Dubai:20151219T193000
DTSTAMP:20260424T002554
CREATED:20250831T100257Z
LAST-MODIFIED:20250831T100257Z
UID:2471-1450553400-1450553400@kaistrandskov.com
SUMMARY:The Debaucherauntes
DESCRIPTION:
URL:https://kaistrandskov.com/event/the-debaucherauntes-59/
END:VEVENT
BEGIN:VEVENT
DTSTART;TZID=Asia/Dubai:20151218T210000
DTEND;TZID=Asia/Dubai:20151218T210000
DTSTAMP:20260424T002554
CREATED:20250831T100256Z
LAST-MODIFIED:20250831T100256Z
UID:2470-1450472400-1450472400@kaistrandskov.com
SUMMARY:Bucharest Drinking Team
DESCRIPTION:
URL:https://kaistrandskov.com/event/bucharest-drinking-team-26/
END:VEVENT
BEGIN:VEVENT
DTSTART;TZID=Asia/Dubai:20151205T210000
DTEND;TZID=Asia/Dubai:20151205T210000
DTSTAMP:20260424T002554
CREATED:20250831T100256Z
LAST-MODIFIED:20250831T100256Z
UID:2469-1449349200-1449349200@kaistrandskov.com
SUMMARY:The Debaucherauntes
DESCRIPTION:
URL:https://kaistrandskov.com/event/the-debaucherauntes-58/
END:VEVENT
BEGIN:VEVENT
DTSTART;TZID=Asia/Dubai:20151110T190000
DTEND;TZID=Asia/Dubai:20151110T190000
DTSTAMP:20260424T002554
CREATED:20250831T100246Z
LAST-MODIFIED:20250831T100246Z
UID:2468-1447182000-1447182000@kaistrandskov.com
SUMMARY:The m9
DESCRIPTION:
URL:https://kaistrandskov.com/event/the-m9-21/
END:VEVENT
BEGIN:VEVENT
DTSTART;TZID=Asia/Dubai:20151107T200000
DTEND;TZID=Asia/Dubai:20151107T200000
DTSTAMP:20260424T002554
CREATED:20250831T100246Z
LAST-MODIFIED:20250831T100246Z
UID:2467-1446926400-1446926400@kaistrandskov.com
SUMMARY:The Debaucherauntes
DESCRIPTION:
URL:https://kaistrandskov.com/event/the-debaucherauntes-57/
END:VEVENT
BEGIN:VEVENT
DTSTART;TZID=Asia/Dubai:20151031T200000
DTEND;TZID=Asia/Dubai:20151031T200000
DTSTAMP:20260424T002554
CREATED:20250831T100246Z
LAST-MODIFIED:20250831T100246Z
UID:2466-1446321600-1446321600@kaistrandskov.com
SUMMARY:Bucharest Drinking Team
DESCRIPTION:
URL:https://kaistrandskov.com/event/bucharest-drinking-team-25/
END:VEVENT
BEGIN:VEVENT
DTSTART;TZID=Asia/Dubai:20150925T200000
DTEND;TZID=Asia/Dubai:20150925T200000
DTSTAMP:20260424T002554
CREATED:20250831T100245Z
LAST-MODIFIED:20250831T100245Z
UID:2465-1443211200-1443211200@kaistrandskov.com
SUMMARY:The m9
DESCRIPTION:
URL:https://kaistrandskov.com/event/the-m9-20/
END:VEVENT
BEGIN:VEVENT
DTSTART;TZID=Asia/Dubai:20150911T183000
DTEND;TZID=Asia/Dubai:20150911T183000
DTSTAMP:20260424T002554
CREATED:20250831T095715Z
LAST-MODIFIED:20250831T095715Z
UID:2461-1441996200-1441996200@kaistrandskov.com
SUMMARY:Bucharest Drinking Team
DESCRIPTION:
URL:https://kaistrandskov.com/event/bucharest-drinking-team-24/
LOCATION:SEATTLE Capital Hill columns
END:VEVENT
BEGIN:VEVENT
DTSTART;TZID=Asia/Dubai:20150904T183000
DTEND;TZID=Asia/Dubai:20150904T183000
DTSTAMP:20260424T002554
CREATED:20250831T095715Z
LAST-MODIFIED:20250831T095715Z
UID:2460-1441391400-1441391400@kaistrandskov.com
SUMMARY:Bucharest Drinking Team
DESCRIPTION:
URL:https://kaistrandskov.com/event/bucharest-drinking-team-23/
LOCATION:SEATTLE Capital Hill columns
END:VEVENT
BEGIN:VEVENT
DTSTART;TZID=Asia/Dubai:20150902T000000
DTEND;TZID=Asia/Dubai:20150902T000000
DTSTAMP:20260424T002554
CREATED:20250831T095715Z
LAST-MODIFIED:20250831T095715Z
UID:2459-1441152000-1441152000@kaistrandskov.com
SUMMARY:The Debaucherauntes - west coast tour
DESCRIPTION:
URL:https://kaistrandskov.com/event/the-debaucherauntes-west-coast-tour/
END:VEVENT
BEGIN:VEVENT
DTSTART;TZID=Asia/Dubai:20150724T213000
DTEND;TZID=Asia/Dubai:20150724T213000
DTSTAMP:20260424T002554
CREATED:20250831T095714Z
LAST-MODIFIED:20250831T095714Z
UID:2457-1437773400-1437773400@kaistrandskov.com
SUMMARY:Bucharest Drinking Team
DESCRIPTION:
URL:https://kaistrandskov.com/event/bucharest-drinking-team-21/
END:VEVENT
BEGIN:VEVENT
DTSTART;TZID=Asia/Dubai:20150724T180000
DTEND;TZID=Asia/Dubai:20150724T180000
DTSTAMP:20260424T002554
CREATED:20250831T095715Z
LAST-MODIFIED:20250831T095715Z
UID:2458-1437760800-1437760800@kaistrandskov.com
SUMMARY:Bucharest Drinking Team
DESCRIPTION:
URL:https://kaistrandskov.com/event/bucharest-drinking-team-22/
END:VEVENT
BEGIN:VEVENT
DTSTART;TZID=Asia/Dubai:20150704T210000
DTEND;TZID=Asia/Dubai:20150704T210000
DTSTAMP:20260424T002554
CREATED:20250831T095633Z
LAST-MODIFIED:20250831T095633Z
UID:2455-1436043600-1436043600@kaistrandskov.com
SUMMARY:DAMA/LIBRA
DESCRIPTION:
URL:https://kaistrandskov.com/event/dama-libra-2/
END:VEVENT
BEGIN:VEVENT
DTSTART;TZID=Asia/Dubai:20150703T210000
DTEND;TZID=Asia/Dubai:20150703T210000
DTSTAMP:20260424T002554
CREATED:20250831T095632Z
LAST-MODIFIED:20250831T095632Z
UID:2454-1435957200-1435957200@kaistrandskov.com
SUMMARY:DAMA/LIBRA
DESCRIPTION:
URL:https://kaistrandskov.com/event/dama-libra/
LOCATION:VANCOUVER\, BC
END:VEVENT
BEGIN:VEVENT
DTSTART;TZID=Asia/Dubai:20150621T185000
DTEND;TZID=Asia/Dubai:20150621T185000
DTSTAMP:20260424T002554
CREATED:20250831T095632Z
LAST-MODIFIED:20250831T095632Z
UID:2453-1434912600-1434912600@kaistrandskov.com
SUMMARY:The m9
DESCRIPTION:
URL:https://kaistrandskov.com/event/the-m9-19/
LOCATION:SEATTLE Seattle Center Fisher Pavilion
END:VEVENT
BEGIN:VEVENT
DTSTART;TZID=Asia/Dubai:20150620T200000
DTEND;TZID=Asia/Dubai:20150620T200000
DTSTAMP:20260424T002554
CREATED:20250831T095632Z
LAST-MODIFIED:20250831T095632Z
UID:2452-1434830400-1434830400@kaistrandskov.com
SUMMARY:The m9
DESCRIPTION:
URL:https://kaistrandskov.com/event/the-m9-18/
LOCATION:SEATTLE Gasworks Park – Grassy Knoll\, Seattle\, United States
END:VEVENT
BEGIN:VEVENT
DTSTART;TZID=Asia/Dubai:20150619T190000
DTEND;TZID=Asia/Dubai:20150619T190000
DTSTAMP:20260424T002554
CREATED:20250831T095631Z
LAST-MODIFIED:20250831T095631Z
UID:2451-1434740400-1434740400@kaistrandskov.com
SUMMARY:Bucharest Drinking Team\, The m9
DESCRIPTION:
URL:https://kaistrandskov.com/event/bucharest-drinking-team-the-m9-6/
LOCATION:Georgetown Area\, Seattle\, United States
END:VEVENT
BEGIN:VEVENT
DTSTART;TZID=Asia/Dubai:20150524T210000
DTEND;TZID=Asia/Dubai:20150524T210000
DTSTAMP:20260424T002554
CREATED:20250831T095520Z
LAST-MODIFIED:20250831T095520Z
UID:2448-1432501200-1432501200@kaistrandskov.com
SUMMARY:The Debaucherauntes
DESCRIPTION:
URL:https://kaistrandskov.com/event/the-debaucherauntes-56/
END:VEVENT
BEGIN:VEVENT
DTSTART;TZID=Asia/Dubai:20150523T180000
DTEND;TZID=Asia/Dubai:20150523T180000
DTSTAMP:20260424T002554
CREATED:20250831T095519Z
LAST-MODIFIED:20250831T095519Z
UID:2446-1432404000-1432404000@kaistrandskov.com
SUMMARY:Bucharest Drinking Team\, The m9
DESCRIPTION:
URL:https://kaistrandskov.com/event/bucharest-drinking-team-the-m9-5/
LOCATION:Seattle Center fountain lawn
END:VEVENT
BEGIN:VEVENT
DTSTART;TZID=Asia/Dubai:20150523T110000
DTEND;TZID=Asia/Dubai:20150523T110000
DTSTAMP:20260424T002554
CREATED:20250831T095519Z
LAST-MODIFIED:20250831T095519Z
UID:2447-1432378800-1432378800@kaistrandskov.com
SUMMARY:The m9
DESCRIPTION:
URL:https://kaistrandskov.com/event/the-m9-17/
LOCATION:Seattle Center – Fischer Pavilion
END:VEVENT
END:VCALENDAR