BEGIN:VCALENDAR
VERSION:2.0
PRODID:-//Kai Strandskov Music - ECPv6.15.17.1//NONSGML v1.0//EN
CALSCALE:GREGORIAN
METHOD:PUBLISH
X-WR-CALNAME:Kai Strandskov Music
X-ORIGINAL-URL:https://kaistrandskov.com
X-WR-CALDESC:Events for Kai Strandskov Music
REFRESH-INTERVAL;VALUE=DURATION:PT1H
X-Robots-Tag:noindex
X-PUBLISHED-TTL:PT1H
BEGIN:VTIMEZONE
TZID:Asia/Dubai
BEGIN:STANDARD
TZOFFSETFROM:+0400
TZOFFSETTO:+0400
TZNAME:+04
DTSTART:20150101T000000
END:STANDARD
END:VTIMEZONE
BEGIN:VEVENT
DTSTART;TZID=Asia/Dubai:20170525T190000
DTEND;TZID=Asia/Dubai:20170525T190000
DTSTAMP:20260423T143229
CREATED:20250831T094215Z
LAST-MODIFIED:20250831T094215Z
UID:2351-1495738800-1495738800@kaistrandskov.com
SUMMARY:Let's Be Silver
DESCRIPTION:
URL:https://kaistrandskov.com/event/lets-be-silver/
END:VEVENT
BEGIN:VEVENT
DTSTART;TZID=Asia/Dubai:20170521T210000
DTEND;TZID=Asia/Dubai:20170521T210000
DTSTAMP:20260423T143229
CREATED:20250831T094215Z
LAST-MODIFIED:20250831T094215Z
UID:2350-1495400400-1495400400@kaistrandskov.com
SUMMARY:Coffee with Stripes\, LIVE!
DESCRIPTION:
URL:https://kaistrandskov.com/event/coffee-with-stripes-live/
END:VEVENT
BEGIN:VEVENT
DTSTART;TZID=Asia/Dubai:20170505T200000
DTEND;TZID=Asia/Dubai:20170505T200000
DTSTAMP:20260423T143229
CREATED:20250831T094206Z
LAST-MODIFIED:20250831T094206Z
UID:2349-1494014400-1494014400@kaistrandskov.com
SUMMARY:The Debaucherauntes
DESCRIPTION:
URL:https://kaistrandskov.com/event/the-debaucherauntes-29/
END:VEVENT
BEGIN:VEVENT
DTSTART;TZID=Asia/Dubai:20170428T200000
DTEND;TZID=Asia/Dubai:20170428T200000
DTSTAMP:20260423T143229
CREATED:20250831T094206Z
LAST-MODIFIED:20250831T094206Z
UID:2348-1493409600-1493409600@kaistrandskov.com
SUMMARY:Scott Adams with the Debaucherauntes
DESCRIPTION:
URL:https://kaistrandskov.com/event/scott-adams-with-the-debaucherauntes/
END:VEVENT
BEGIN:VEVENT
DTSTART;TZID=Asia/Dubai:20170414T223000
DTEND;TZID=Asia/Dubai:20170414T223000
DTSTAMP:20260423T143229
CREATED:20250831T094205Z
LAST-MODIFIED:20250831T094205Z
UID:2347-1492209000-1492209000@kaistrandskov.com
SUMMARY:Sazerac Orchestra
DESCRIPTION:
URL:https://kaistrandskov.com/event/sazerac-orchestra-2/
END:VEVENT
BEGIN:VEVENT
DTSTART;TZID=Asia/Dubai:20170327T154500
DTEND;TZID=Asia/Dubai:20170327T154500
DTSTAMP:20260423T143229
CREATED:20250831T094205Z
LAST-MODIFIED:20250831T094205Z
UID:2346-1490629500-1490629500@kaistrandskov.com
SUMMARY:The Debaucherauntes
DESCRIPTION:
URL:https://kaistrandskov.com/event/the-debaucherauntes-28/
END:VEVENT
BEGIN:VEVENT
DTSTART;TZID=Asia/Dubai:20170318T190000
DTEND;TZID=Asia/Dubai:20170318T190000
DTSTAMP:20260423T143229
CREATED:20250831T094205Z
LAST-MODIFIED:20250831T094205Z
UID:2345-1489863600-1489863600@kaistrandskov.com
SUMMARY:The m9
DESCRIPTION:
URL:https://kaistrandskov.com/event/the-m9/
END:VEVENT
BEGIN:VEVENT
DTSTART;TZID=Asia/Dubai:20170311T200000
DTEND;TZID=Asia/Dubai:20170311T200000
DTSTAMP:20260423T143229
CREATED:20250831T094156Z
LAST-MODIFIED:20250831T094156Z
UID:2344-1489262400-1489262400@kaistrandskov.com
SUMMARY:The Debaucherauntes
DESCRIPTION:
URL:https://kaistrandskov.com/event/the-debaucherauntes-27/
END:VEVENT
BEGIN:VEVENT
DTSTART;TZID=Asia/Dubai:20170304T212000
DTEND;TZID=Asia/Dubai:20170304T212000
DTSTAMP:20260423T143229
CREATED:20250831T094156Z
LAST-MODIFIED:20250831T094156Z
UID:2343-1488662400-1488662400@kaistrandskov.com
SUMMARY:Sazerac Orchestra
DESCRIPTION:
URL:https://kaistrandskov.com/event/sazerac-orchestra/
END:VEVENT
BEGIN:VEVENT
DTSTART;TZID=Asia/Dubai:20170225T220000
DTEND;TZID=Asia/Dubai:20170225T220000
DTSTAMP:20260423T143229
CREATED:20250831T094156Z
LAST-MODIFIED:20250831T094156Z
UID:2342-1488060000-1488060000@kaistrandskov.com
SUMMARY:Mardi Gras Masquerade
DESCRIPTION:
URL:https://kaistrandskov.com/event/mardi-gras-masquerade/
END:VEVENT
BEGIN:VEVENT
DTSTART;TZID=Asia/Dubai:20170204T193000
DTEND;TZID=Asia/Dubai:20170204T193000
DTSTAMP:20260423T143229
CREATED:20250831T094155Z
LAST-MODIFIED:20250831T094155Z
UID:2341-1486236600-1486236600@kaistrandskov.com
SUMMARY:The Debaucherauntes
DESCRIPTION:
URL:https://kaistrandskov.com/event/the-debaucherauntes-26/
END:VEVENT
BEGIN:VEVENT
DTSTART;TZID=Asia/Dubai:20170126T200000
DTEND;TZID=Asia/Dubai:20170126T200000
DTSTAMP:20260423T143229
CREATED:20250831T094155Z
LAST-MODIFIED:20250831T094155Z
UID:2340-1485460800-1485460800@kaistrandskov.com
SUMMARY:The Debaucherauntes
DESCRIPTION:
URL:https://kaistrandskov.com/event/the-debaucherauntes-25/
END:VEVENT
BEGIN:VEVENT
DTSTART;TZID=Asia/Dubai:20161231T223000
DTEND;TZID=Asia/Dubai:20161231T223000
DTSTAMP:20260423T143229
CREATED:20250831T094555Z
LAST-MODIFIED:20250831T094555Z
UID:2413-1483223400-1483223400@kaistrandskov.com
SUMMARY:Brasscadia
DESCRIPTION:
URL:https://kaistrandskov.com/event/brasscadia-2/
END:VEVENT
BEGIN:VEVENT
DTSTART;TZID=Asia/Dubai:20161231T180000
DTEND;TZID=Asia/Dubai:20161231T180000
DTSTAMP:20260423T143229
CREATED:20250831T094555Z
LAST-MODIFIED:20250831T094555Z
UID:2412-1483207200-1483207200@kaistrandskov.com
SUMMARY:Brasscadia
DESCRIPTION:BRASSCADIA\, a brand new brass band\, will appear in the parade and play around town.
URL:https://kaistrandskov.com/event/brasscadia/
LOCATION:TACOMA\, WA Downtown area
END:VEVENT
BEGIN:VEVENT
DTSTART;TZID=Asia/Dubai:20161229T210000
DTEND;TZID=Asia/Dubai:20161229T210000
DTSTAMP:20260423T143229
CREATED:20250831T094554Z
LAST-MODIFIED:20250831T094554Z
UID:2411-1483045200-1483045200@kaistrandskov.com
SUMMARY:The Debaucherauntes
DESCRIPTION:
URL:https://kaistrandskov.com/event/the-debaucherauntes-51/
END:VEVENT
BEGIN:VEVENT
DTSTART;TZID=Asia/Dubai:20161221T190000
DTEND;TZID=Asia/Dubai:20161221T190000
DTSTAMP:20260423T143229
CREATED:20250831T094546Z
LAST-MODIFIED:20250831T094546Z
UID:2410-1482346800-1482346800@kaistrandskov.com
SUMMARY:Bdork
DESCRIPTION:
URL:https://kaistrandskov.com/event/bdork/
LOCATION:SEATTLE Punk Rock Flea Market
END:VEVENT
BEGIN:VEVENT
DTSTART;TZID=Asia/Dubai:20161210T210000
DTEND;TZID=Asia/Dubai:20161210T210000
DTSTAMP:20260423T143229
CREATED:20250831T094546Z
LAST-MODIFIED:20250831T094546Z
UID:2409-1481403600-1481403600@kaistrandskov.com
SUMMARY:The Debaucherauntes
DESCRIPTION:
URL:https://kaistrandskov.com/event/the-debaucherauntes-50/
END:VEVENT
BEGIN:VEVENT
DTSTART;TZID=Asia/Dubai:20161209T210000
DTEND;TZID=Asia/Dubai:20161209T210000
DTSTAMP:20260423T143229
CREATED:20250831T094546Z
LAST-MODIFIED:20250831T094546Z
UID:2408-1481317200-1481317200@kaistrandskov.com
SUMMARY:The Debaucherauntes
DESCRIPTION:
URL:https://kaistrandskov.com/event/the-debaucherauntes-49/
END:VEVENT
BEGIN:VEVENT
DTSTART;TZID=Asia/Dubai:20161120T200000
DTEND;TZID=Asia/Dubai:20161120T200000
DTSTAMP:20260423T143230
CREATED:20250831T094545Z
LAST-MODIFIED:20250831T094545Z
UID:2407-1479672000-1479672000@kaistrandskov.com
SUMMARY:The Debaucherauntes
DESCRIPTION:$10\, 21+
URL:https://kaistrandskov.com/event/the-debaucherauntes-48/
END:VEVENT
BEGIN:VEVENT
DTSTART;TZID=Asia/Dubai:20161029T210000
DTEND;TZID=Asia/Dubai:20161029T210000
DTSTAMP:20260423T143230
CREATED:20250831T094539Z
LAST-MODIFIED:20250831T094539Z
UID:2405-1477774800-1477774800@kaistrandskov.com
SUMMARY:Oceans of Mars
DESCRIPTION:with Warning: Danger!\, Steel Tigers of Death\, Juliet Tango
URL:https://kaistrandskov.com/event/oceans-of-mars/
END:VEVENT
BEGIN:VEVENT
DTSTART;TZID=Asia/Dubai:20161022T190000
DTEND;TZID=Asia/Dubai:20161022T190000
DTSTAMP:20260423T143230
CREATED:20250831T094538Z
LAST-MODIFIED:20250831T094538Z
UID:2404-1477162800-1477162800@kaistrandskov.com
SUMMARY:Orkestar Slivovica
DESCRIPTION:Lache Cercel and the Roma Swing Ensemble (lachecercel.com)Dromeno Greek Dance Music (dromenomusic.com)Eurodanceparty USA (eurodancepartyusa.com)Orkestar Slivovica (orkestarslivovica.org)Delicious snacks\, quality bar\, and thirst-quenching beverages will be available.Limited seating\, please email orkestars@gmail.com to book your own large VIP table for $90/table (in addition to ticket costs)!At the newly renovated Russian Hall at 600 Campbell Street in Strathcona.$25 in advance/ $30 at the door regular admission$20 advance/$25 at the door for youth/students.
URL:https://kaistrandskov.com/event/orkestar-slivovica/
END:VEVENT
BEGIN:VEVENT
DTSTART;TZID=Asia/Dubai:20160912T193000
DTEND;TZID=Asia/Dubai:20160912T193000
DTSTAMP:20260423T143230
CREATED:20250831T094538Z
LAST-MODIFIED:20250831T094538Z
UID:2403-1473708600-1473708600@kaistrandskov.com
SUMMARY:The Debaucherauntes
DESCRIPTION:7:30p Doors 8p Music $5-$15 sugg. donation
URL:https://kaistrandskov.com/event/the-debaucherauntes-47/
END:VEVENT
BEGIN:VEVENT
DTSTART;TZID=Asia/Dubai:20160911T170000
DTEND;TZID=Asia/Dubai:20160911T170000
DTSTAMP:20260423T143230
CREATED:20250831T094538Z
LAST-MODIFIED:20250831T094538Z
UID:2402-1473613200-1473613200@kaistrandskov.com
SUMMARY:The Debaucherauntes
DESCRIPTION:
URL:https://kaistrandskov.com/event/the-debaucherauntes-46/
END:VEVENT
BEGIN:VEVENT
DTSTART;TZID=Asia/Dubai:20160910T190000
DTEND;TZID=Asia/Dubai:20160910T190000
DTSTAMP:20260423T143230
CREATED:20250831T094538Z
LAST-MODIFIED:20250831T094538Z
UID:2401-1473534000-1473534000@kaistrandskov.com
SUMMARY:The Debaucherauntes
DESCRIPTION:
URL:https://kaistrandskov.com/event/the-debaucherauntes-45/
END:VEVENT
BEGIN:VEVENT
DTSTART;TZID=Asia/Dubai:20160909T220000
DTEND;TZID=Asia/Dubai:20160909T220000
DTSTAMP:20260423T143230
CREATED:20250831T094529Z
LAST-MODIFIED:20250831T094529Z
UID:2400-1473458400-1473458400@kaistrandskov.com
SUMMARY:The Debaucherauntes
DESCRIPTION:Sept 9\, 10\, 11 • Tickets are selling quickly: bit.ly/Shbang • Don’t miss the boat to this multi-sensory playground of the arts!
URL:https://kaistrandskov.com/event/the-debaucherauntes-44/
END:VEVENT
BEGIN:VEVENT
DTSTART;TZID=Asia/Dubai:20160908T193000
DTEND;TZID=Asia/Dubai:20160908T193000
DTSTAMP:20260423T143230
CREATED:20250831T094529Z
LAST-MODIFIED:20250831T094529Z
UID:2399-1473363000-1473363000@kaistrandskov.com
SUMMARY:The Debaucherauntes
DESCRIPTION:7:30p Doors 8p Music $5-$15 sliding scale
URL:https://kaistrandskov.com/event/the-debaucherauntes-43/
END:VEVENT
BEGIN:VEVENT
DTSTART;TZID=Asia/Dubai:20160805T190000
DTEND;TZID=Asia/Dubai:20160805T190000
DTSTAMP:20260423T143230
CREATED:20250831T094529Z
LAST-MODIFIED:20250831T094529Z
UID:2397-1470423600-1470423600@kaistrandskov.com
SUMMARY:Bucharest Drinking Team
DESCRIPTION:
URL:https://kaistrandskov.com/event/bucharest-drinking-team-11/
END:VEVENT
BEGIN:VEVENT
DTSTART;TZID=Asia/Dubai:20160709T210000
DTEND;TZID=Asia/Dubai:20160709T210000
DTSTAMP:20260423T143230
CREATED:20250831T094528Z
LAST-MODIFIED:20250831T094528Z
UID:2396-1468098000-1468098000@kaistrandskov.com
SUMMARY:The Debaucherauntes
DESCRIPTION:
URL:https://kaistrandskov.com/event/the-debaucherauntes-42/
END:VEVENT
BEGIN:VEVENT
DTSTART;TZID=Asia/Dubai:20160619T170000
DTEND;TZID=Asia/Dubai:20160619T170000
DTSTAMP:20260423T143230
CREATED:20250831T094520Z
LAST-MODIFIED:20250831T094520Z
UID:2395-1466355600-1466355600@kaistrandskov.com
SUMMARY:Bucharest Drinking Team
DESCRIPTION:12pm – 8pm:  A frillion mobile street bands invade Columbia City.
URL:https://kaistrandskov.com/event/bucharest-drinking-team-10/
END:VEVENT
BEGIN:VEVENT
DTSTART;TZID=Asia/Dubai:20160619T154500
DTEND;TZID=Asia/Dubai:20160619T154500
DTSTAMP:20260423T143230
CREATED:20250831T094520Z
LAST-MODIFIED:20250831T094520Z
UID:2394-1466351100-1466351100@kaistrandskov.com
SUMMARY:The m9
DESCRIPTION:12pm – 8pm:  A frillion mobile street bands invade Columbia City.
URL:https://kaistrandskov.com/event/the-m9-11/
END:VEVENT
END:VCALENDAR