BEGIN:VCALENDAR
VERSION:2.0
PRODID:-//Kai Strandskov Music - ECPv6.15.17.1//NONSGML v1.0//EN
CALSCALE:GREGORIAN
METHOD:PUBLISH
X-WR-CALNAME:Kai Strandskov Music
X-ORIGINAL-URL:https://kaistrandskov.com
X-WR-CALDESC:Events for Kai Strandskov Music
REFRESH-INTERVAL;VALUE=DURATION:PT1H
X-Robots-Tag:noindex
X-PUBLISHED-TTL:PT1H
BEGIN:VTIMEZONE
TZID:Asia/Dubai
BEGIN:STANDARD
TZOFFSETFROM:+0400
TZOFFSETTO:+0400
TZNAME:+04
DTSTART:20160101T000000
END:STANDARD
END:VTIMEZONE
BEGIN:VEVENT
DTSTART;TZID=Asia/Dubai:20180708T203000
DTEND;TZID=Asia/Dubai:20180708T203000
DTSTAMP:20260423T115715
CREATED:20250831T094110Z
LAST-MODIFIED:20250831T094110Z
UID:2319-1531081800-1531081800@kaistrandskov.com
SUMMARY:The Debaucherauntes
DESCRIPTION:
URL:https://kaistrandskov.com/event/the-debaucherauntes-11/
END:VEVENT
BEGIN:VEVENT
DTSTART;TZID=Asia/Dubai:20180630T210000
DTEND;TZID=Asia/Dubai:20180630T210000
DTSTAMP:20260423T115715
CREATED:20250831T094110Z
LAST-MODIFIED:20250831T094110Z
UID:2318-1530392400-1530392400@kaistrandskov.com
SUMMARY:Stereo Creeps
DESCRIPTION:
URL:https://kaistrandskov.com/event/stereo-creeps-15/
END:VEVENT
BEGIN:VEVENT
DTSTART;TZID=Asia/Dubai:20180602T210000
DTEND;TZID=Asia/Dubai:20180602T210000
DTSTAMP:20260423T115715
CREATED:20250831T094109Z
LAST-MODIFIED:20250831T094109Z
UID:2317-1527973200-1527973200@kaistrandskov.com
SUMMARY:Stereo Creeps
DESCRIPTION:
URL:https://kaistrandskov.com/event/stereo-creeps-14/
END:VEVENT
BEGIN:VEVENT
DTSTART;TZID=Asia/Dubai:20180527T200000
DTEND;TZID=Asia/Dubai:20180527T200000
DTSTAMP:20260423T115715
CREATED:20250831T094109Z
LAST-MODIFIED:20250831T094109Z
UID:2316-1527451200-1527451200@kaistrandskov.com
SUMMARY:The Debaucherauntes
DESCRIPTION:
URL:https://kaistrandskov.com/event/the-debaucherauntes-10/
END:VEVENT
BEGIN:VEVENT
DTSTART;TZID=Asia/Dubai:20180420T210000
DTEND;TZID=Asia/Dubai:20180420T210000
DTSTAMP:20260423T115715
CREATED:20250831T094109Z
LAST-MODIFIED:20250831T094109Z
UID:2315-1524258000-1524258000@kaistrandskov.com
SUMMARY:Stereo Creeps
DESCRIPTION:
URL:https://kaistrandskov.com/event/stereo-creeps-13/
END:VEVENT
BEGIN:VEVENT
DTSTART;TZID=Asia/Dubai:20180417T210000
DTEND;TZID=Asia/Dubai:20180417T210000
DTSTAMP:20260423T115715
CREATED:20250831T094103Z
LAST-MODIFIED:20250831T094103Z
UID:2314-1523998800-1523998800@kaistrandskov.com
SUMMARY:Techno Guantlet
DESCRIPTION:
URL:https://kaistrandskov.com/event/techno-guantlet/
END:VEVENT
BEGIN:VEVENT
DTSTART;TZID=Asia/Dubai:20180329T200000
DTEND;TZID=Asia/Dubai:20180329T200000
DTSTAMP:20260423T115715
CREATED:20250831T094102Z
LAST-MODIFIED:20250831T094102Z
UID:2313-1522353600-1522353600@kaistrandskov.com
SUMMARY:Stereo Creeps
DESCRIPTION:www.spudgoodman.com
URL:https://kaistrandskov.com/event/stereo-creeps-12/
LOCATION:NWCZ Radio\, 3814 N 22nd St\, Tacoma\, WA\, 98406\, United States
END:VEVENT
BEGIN:VEVENT
DTSTART;TZID=Asia/Dubai:20180324T210000
DTEND;TZID=Asia/Dubai:20180324T210000
DTSTAMP:20260423T115715
CREATED:20250831T094102Z
LAST-MODIFIED:20250831T094102Z
UID:2312-1521925200-1521925200@kaistrandskov.com
SUMMARY:Stereo Creeps
DESCRIPTION:
URL:https://kaistrandskov.com/event/stereo-creeps-11/
END:VEVENT
BEGIN:VEVENT
DTSTART;TZID=Asia/Dubai:20180323T190000
DTEND;TZID=Asia/Dubai:20180323T190000
DTSTAMP:20260423T115715
CREATED:20250831T094101Z
LAST-MODIFIED:20250831T094101Z
UID:2311-1521831600-1521831600@kaistrandskov.com
SUMMARY:The Debaucherauntes
DESCRIPTION:
URL:https://kaistrandskov.com/event/the-debaucherauntes-9/
END:VEVENT
BEGIN:VEVENT
DTSTART;TZID=Asia/Dubai:20180303T190000
DTEND;TZID=Asia/Dubai:20180303T190000
DTSTAMP:20260423T115715
CREATED:20250831T094100Z
LAST-MODIFIED:20250831T094100Z
UID:2310-1520103600-1520103600@kaistrandskov.com
SUMMARY:The Debaucherauntes
DESCRIPTION:A fundraiser for Real Rent Duwamish www.realrentduwamish.org FEATURING: A Shpiel! Bands! Art! Booze! Your MC for the evening will be Brief (members of Brivele\, antifa Yiddishists) https://www.brivele.com/ Your MC for the evening will be Brief (members of Brivele\, antifa Yiddishists) https://www.brivele.com/
URL:https://kaistrandskov.com/event/the-debaucherauntes-8/
END:VEVENT
BEGIN:VEVENT
DTSTART;TZID=Asia/Dubai:20180209T200000
DTEND;TZID=Asia/Dubai:20180209T200000
DTSTAMP:20260423T115715
CREATED:20250831T094051Z
LAST-MODIFIED:20250831T094051Z
UID:2309-1518206400-1518206400@kaistrandskov.com
SUMMARY:The Debaucherauntes
DESCRIPTION:
URL:https://kaistrandskov.com/event/the-debaucherauntes-7/
END:VEVENT
BEGIN:VEVENT
DTSTART;TZID=Asia/Dubai:20180203T210000
DTEND;TZID=Asia/Dubai:20180203T210000
DTSTAMP:20260423T115715
CREATED:20250831T094051Z
LAST-MODIFIED:20250831T094051Z
UID:2308-1517691600-1517691600@kaistrandskov.com
SUMMARY:Kis Kis Maca
DESCRIPTION:
URL:https://kaistrandskov.com/event/kis-kis-maca/
END:VEVENT
BEGIN:VEVENT
DTSTART;TZID=Asia/Dubai:20180202T210000
DTEND;TZID=Asia/Dubai:20180202T210000
DTSTAMP:20260423T115715
CREATED:20250831T094051Z
LAST-MODIFIED:20250831T094051Z
UID:2307-1517605200-1517605200@kaistrandskov.com
SUMMARY:Stereo Creeps
DESCRIPTION:
URL:https://kaistrandskov.com/event/stereo-creeps-10/
END:VEVENT
BEGIN:VEVENT
DTSTART;TZID=Asia/Dubai:20180114T210000
DTEND;TZID=Asia/Dubai:20180114T210000
DTSTAMP:20260423T115715
CREATED:20250831T094050Z
LAST-MODIFIED:20250831T094050Z
UID:2306-1515963600-1515963600@kaistrandskov.com
SUMMARY:Techno Gauntlet
DESCRIPTION:
URL:https://kaistrandskov.com/event/techno-gauntlet/
END:VEVENT
BEGIN:VEVENT
DTSTART;TZID=Asia/Dubai:20180113T210000
DTEND;TZID=Asia/Dubai:20180113T210000
DTSTAMP:20260423T115715
CREATED:20250831T094050Z
LAST-MODIFIED:20250831T094050Z
UID:2305-1515877200-1515877200@kaistrandskov.com
SUMMARY:Seattle Rock Lottery
DESCRIPTION:The Seattle Rock Lottery is a benefit\, with all proceeds going to Rain City Rock Camp for Girls. Rain City Rock Camp empowers girls\, women\, and gender non-conforming individuals to engage their creative potential through music\, champion equity\, and thrive in a community of allies and activists. Hosted by Tilson (RL04)  Confirmed participants include:Em Adams (Heart Shaped Boxes) Dune Butler (General Mojo’s) Alaia D’Alessandro (Tres Leches) Garret Croxon (Fotoform) Beth Fleenor (Crystal Beth & the Boom Boom Band) Silas Follendorf (Carrion Crows) Paul Gonzenbach (Jim Yoshii Pile-Up) Julie-C Minna Lee (Anime Creek) Ruth Keating Lockwood (Smith & Whitaker) Guy Maddison (Mudhoney) Matthew Manges (Annie Ford Band) Guy Merrill (Trash Midas) Jeanne Mitchell (Another Perfect Crime) Daniel Pak (Kore Ionz) Birch Pereira (Birch Pereira & the Gin Joints) Kenneth Piekarski (Slashed Tires) Emily Pothast (Hair and Space Museum) Michelle Searle (The Blood Moon Orchestra) Ian Sides (Devils Hunt Me Down) Kai Strandskov (DAMA/LIBRA) Reese Tanimura (Mood Swings) Monica Thomas (Occlusions) Najamoniq Todd (Mirrorgloss) Eva Walker (The Black Tones)
URL:https://kaistrandskov.com/event/seattle-rock-lottery/
END:VEVENT
BEGIN:VEVENT
DTSTART;TZID=Asia/Dubai:20171216T210000
DTEND;TZID=Asia/Dubai:20171216T210000
DTSTAMP:20260423T115715
CREATED:20250831T094236Z
LAST-MODIFIED:20250831T094236Z
UID:2364-1513458000-1513458000@kaistrandskov.com
SUMMARY:The Debaucherauntes
DESCRIPTION:
URL:https://kaistrandskov.com/event/the-debaucherauntes-34/
END:VEVENT
BEGIN:VEVENT
DTSTART;TZID=Asia/Dubai:20171202T210000
DTEND;TZID=Asia/Dubai:20171202T210000
DTSTAMP:20260423T115715
CREATED:20250831T094236Z
LAST-MODIFIED:20250831T094236Z
UID:2363-1512248400-1512248400@kaistrandskov.com
SUMMARY:Stereo Creeps
DESCRIPTION:
URL:https://kaistrandskov.com/event/stereo-creeps-21/
END:VEVENT
BEGIN:VEVENT
DTSTART;TZID=Asia/Dubai:20171124T210000
DTEND;TZID=Asia/Dubai:20171124T210000
DTSTAMP:20260423T115715
CREATED:20250831T094235Z
LAST-MODIFIED:20250831T094235Z
UID:2362-1511557200-1511557200@kaistrandskov.com
SUMMARY:Sweet Lou's Sour Mash
DESCRIPTION:
URL:https://kaistrandskov.com/event/sweet-lous-sour-mash/
END:VEVENT
BEGIN:VEVENT
DTSTART;TZID=Asia/Dubai:20171115T200000
DTEND;TZID=Asia/Dubai:20171115T200000
DTSTAMP:20260423T115715
CREATED:20250831T094235Z
LAST-MODIFIED:20250831T094235Z
UID:2361-1510776000-1510776000@kaistrandskov.com
SUMMARY:Rock Gauntlet
DESCRIPTION:
URL:https://kaistrandskov.com/event/rock-gauntlet/
END:VEVENT
BEGIN:VEVENT
DTSTART;TZID=Asia/Dubai:20171023T180000
DTEND;TZID=Asia/Dubai:20171023T180000
DTSTAMP:20260423T115715
CREATED:20250831T094235Z
LAST-MODIFIED:20250831T094235Z
UID:2360-1508781600-1508781600@kaistrandskov.com
SUMMARY:The Debaucherauntes
DESCRIPTION:
URL:https://kaistrandskov.com/event/the-debaucherauntes-33/
END:VEVENT
BEGIN:VEVENT
DTSTART;TZID=Asia/Dubai:20170923T190000
DTEND;TZID=Asia/Dubai:20170923T190000
DTSTAMP:20260423T115715
CREATED:20250831T094226Z
LAST-MODIFIED:20250831T094226Z
UID:2359-1506193200-1506193200@kaistrandskov.com
SUMMARY:The m9
DESCRIPTION:
URL:https://kaistrandskov.com/event/the-m9-3/
END:VEVENT
BEGIN:VEVENT
DTSTART;TZID=Asia/Dubai:20170815T000000
DTEND;TZID=Asia/Dubai:20170815T000000
DTSTAMP:20260423T115715
CREATED:20250831T094226Z
LAST-MODIFIED:20250831T094226Z
UID:2358-1502755200-1502755200@kaistrandskov.com
SUMMARY:The Debaucherauntes
DESCRIPTION:THE DEBAUCHERAUNTES WEST COAST TOUR 2017 https://www.facebook.com/events/160897917813144/
URL:https://kaistrandskov.com/event/the-debaucherauntes-32/
END:VEVENT
BEGIN:VEVENT
DTSTART;TZID=Asia/Dubai:20170617T130000
DTEND;TZID=Asia/Dubai:20170617T130000
DTSTAMP:20260423T115715
CREATED:20250831T094226Z
LAST-MODIFIED:20250831T094226Z
UID:2357-1497704400-1497704400@kaistrandskov.com
SUMMARY:Rise Up! Action Band
DESCRIPTION:
URL:https://kaistrandskov.com/event/rise-up-action-band/
END:VEVENT
BEGIN:VEVENT
DTSTART;TZID=Asia/Dubai:20170611T200000
DTEND;TZID=Asia/Dubai:20170611T200000
DTSTAMP:20260423T115715
CREATED:20250831T094226Z
LAST-MODIFIED:20250831T094226Z
UID:2356-1497211200-1497211200@kaistrandskov.com
SUMMARY:The Light
DESCRIPTION:Nikola Tesla Projekt: The Light (SEATTLE | Music/theater)
URL:https://kaistrandskov.com/event/the-light-2/
LOCATION:On The Boards\, Seattle
END:VEVENT
BEGIN:VEVENT
DTSTART;TZID=Asia/Dubai:20170610T200000
DTEND;TZID=Asia/Dubai:20170610T200000
DTSTAMP:20260423T115715
CREATED:20250831T094225Z
LAST-MODIFIED:20250831T094225Z
UID:2355-1497124800-1497124800@kaistrandskov.com
SUMMARY:The Light
DESCRIPTION:Nikola Tesla Projekt: The Light (SEATTLE | Music/theater)
URL:https://kaistrandskov.com/event/the-light/
LOCATION:On The Boards\, Seattle
END:VEVENT
BEGIN:VEVENT
DTSTART;TZID=Asia/Dubai:20170530T200000
DTEND;TZID=Asia/Dubai:20170530T200000
DTSTAMP:20260423T115715
CREATED:20250831T094216Z
LAST-MODIFIED:20250831T094216Z
UID:2353-1496174400-1496174400@kaistrandskov.com
SUMMARY:The Debaucherauntes
DESCRIPTION:
URL:https://kaistrandskov.com/event/the-debaucherauntes-31/
END:VEVENT
BEGIN:VEVENT
DTSTART;TZID=Asia/Dubai:20170529T154500
DTEND;TZID=Asia/Dubai:20170529T154500
DTSTAMP:20260423T115715
CREATED:20250831T094215Z
LAST-MODIFIED:20250831T094215Z
UID:2352-1496072700-1496072700@kaistrandskov.com
SUMMARY:The Debaucherauntes
DESCRIPTION:
URL:https://kaistrandskov.com/event/the-debaucherauntes-30/
END:VEVENT
BEGIN:VEVENT
DTSTART;TZID=Asia/Dubai:20170525T190000
DTEND;TZID=Asia/Dubai:20170525T190000
DTSTAMP:20260423T115715
CREATED:20250831T094215Z
LAST-MODIFIED:20250831T094215Z
UID:2351-1495738800-1495738800@kaistrandskov.com
SUMMARY:Let's Be Silver
DESCRIPTION:
URL:https://kaistrandskov.com/event/lets-be-silver/
END:VEVENT
BEGIN:VEVENT
DTSTART;TZID=Asia/Dubai:20170521T210000
DTEND;TZID=Asia/Dubai:20170521T210000
DTSTAMP:20260423T115715
CREATED:20250831T094215Z
LAST-MODIFIED:20250831T094215Z
UID:2350-1495400400-1495400400@kaistrandskov.com
SUMMARY:Coffee with Stripes\, LIVE!
DESCRIPTION:
URL:https://kaistrandskov.com/event/coffee-with-stripes-live/
END:VEVENT
BEGIN:VEVENT
DTSTART;TZID=Asia/Dubai:20170505T200000
DTEND;TZID=Asia/Dubai:20170505T200000
DTSTAMP:20260423T115715
CREATED:20250831T094206Z
LAST-MODIFIED:20250831T094206Z
UID:2349-1494014400-1494014400@kaistrandskov.com
SUMMARY:The Debaucherauntes
DESCRIPTION:
URL:https://kaistrandskov.com/event/the-debaucherauntes-29/
END:VEVENT
END:VCALENDAR