BEGIN:VCALENDAR
VERSION:2.0
PRODID:-//Kai Strandskov Music - ECPv6.15.17.1//NONSGML v1.0//EN
CALSCALE:GREGORIAN
METHOD:PUBLISH
X-WR-CALNAME:Kai Strandskov Music
X-ORIGINAL-URL:https://kaistrandskov.com
X-WR-CALDESC:Events for Kai Strandskov Music
REFRESH-INTERVAL;VALUE=DURATION:PT1H
X-Robots-Tag:noindex
X-PUBLISHED-TTL:PT1H
BEGIN:VTIMEZONE
TZID:Asia/Dubai
BEGIN:STANDARD
TZOFFSETFROM:+0400
TZOFFSETTO:+0400
TZNAME:+04
DTSTART:20180101T000000
END:STANDARD
END:VTIMEZONE
BEGIN:VEVENT
DTSTART;TZID=Asia/Dubai:20220305T204500
DTEND;TZID=Asia/Dubai:20220305T204500
DTSTAMP:20260423T015157
CREATED:20250831T093106Z
LAST-MODIFIED:20250831T093106Z
UID:2242-1646513100-1646513100@kaistrandskov.com
SUMMARY:Omerica
DESCRIPTION:
URL:https://kaistrandskov.com/event/omerica/
END:VEVENT
BEGIN:VEVENT
DTSTART;TZID=Asia/Dubai:20220204T200000
DTEND;TZID=Asia/Dubai:20220204T200000
DTSTAMP:20260423T015157
CREATED:20250831T093106Z
LAST-MODIFIED:20250831T093106Z
UID:2241-1644004800-1644004800@kaistrandskov.com
SUMMARY:Haley Graves
DESCRIPTION:Sidewalk SlamCoyote BredHaley GravesSanatorium Hill
URL:https://kaistrandskov.com/event/haley-graves-2/
END:VEVENT
BEGIN:VEVENT
DTSTART;TZID=Asia/Dubai:20200814T200000
DTEND;TZID=Asia/Dubai:20200814T200000
DTSTAMP:20260423T015157
CREATED:20250831T093904Z
LAST-MODIFIED:20250831T093904Z
UID:2274-1597435200-1597435200@kaistrandskov.com
SUMMARY:CANCELED - The Drive Through
DESCRIPTION:
URL:https://kaistrandskov.com/event/canceled-the-drive-through-4/
END:VEVENT
BEGIN:VEVENT
DTSTART;TZID=Asia/Dubai:20200410T210000
DTEND;TZID=Asia/Dubai:20200410T210000
DTSTAMP:20260423T015157
CREATED:20250831T093904Z
LAST-MODIFIED:20250831T093904Z
UID:2273-1586552400-1586552400@kaistrandskov.com
SUMMARY:CANCELED - The Drive Through
DESCRIPTION:
URL:https://kaistrandskov.com/event/canceled-the-drive-through-3/
END:VEVENT
BEGIN:VEVENT
DTSTART;TZID=Asia/Dubai:20200404T200000
DTEND;TZID=Asia/Dubai:20200404T200000
DTSTAMP:20260423T015157
CREATED:20250831T093904Z
LAST-MODIFIED:20250831T093904Z
UID:2272-1586030400-1586030400@kaistrandskov.com
SUMMARY:CANCELED - Stereo Creeps
DESCRIPTION:
URL:https://kaistrandskov.com/event/canceled-stereo-creeps-2/
END:VEVENT
BEGIN:VEVENT
DTSTART;TZID=Asia/Dubai:20200328T200000
DTEND;TZID=Asia/Dubai:20200328T200000
DTSTAMP:20260423T015157
CREATED:20250831T093904Z
LAST-MODIFIED:20250831T093904Z
UID:2271-1585425600-1585425600@kaistrandskov.com
SUMMARY:CANCELED - The Drive Through
DESCRIPTION:
URL:https://kaistrandskov.com/event/canceled-the-drive-through-2/
END:VEVENT
BEGIN:VEVENT
DTSTART;TZID=Asia/Dubai:20200313T200000
DTEND;TZID=Asia/Dubai:20200313T200000
DTSTAMP:20260423T015157
CREATED:20250831T093904Z
LAST-MODIFIED:20250831T093904Z
UID:2270-1584129600-1584129600@kaistrandskov.com
SUMMARY:CANCELED - Stereo Creeps
DESCRIPTION:
URL:https://kaistrandskov.com/event/canceled-stereo-creeps/
END:VEVENT
BEGIN:VEVENT
DTSTART;TZID=Asia/Dubai:20200312T200000
DTEND;TZID=Asia/Dubai:20200312T200000
DTSTAMP:20260423T015157
CREATED:20250831T093849Z
LAST-MODIFIED:20250831T093849Z
UID:2269-1584043200-1584043200@kaistrandskov.com
SUMMARY:CANCELED - The Drive Through
DESCRIPTION:
URL:https://kaistrandskov.com/event/canceled-the-drive-through/
END:VEVENT
BEGIN:VEVENT
DTSTART;TZID=Asia/Dubai:20200307T000000
DTEND;TZID=Asia/Dubai:20200307T000000
DTSTAMP:20260423T015157
CREATED:20250831T093849Z
LAST-MODIFIED:20250831T093849Z
UID:2268-1583539200-1583539200@kaistrandskov.com
SUMMARY:CANCELED - Veshudolskaia Orkestar
DESCRIPTION:
URL:https://kaistrandskov.com/event/canceled-veshudolskaia-orkestar/
END:VEVENT
BEGIN:VEVENT
DTSTART;TZID=Asia/Dubai:20200306T210000
DTEND;TZID=Asia/Dubai:20200306T210000
DTSTAMP:20260423T015157
CREATED:20250831T093849Z
LAST-MODIFIED:20250831T093849Z
UID:2267-1583528400-1583528400@kaistrandskov.com
SUMMARY:Operadesiac Variety Show
DESCRIPTION:
URL:https://kaistrandskov.com/event/operadesiac-variety-show/
END:VEVENT
BEGIN:VEVENT
DTSTART;TZID=Asia/Dubai:20200111T210000
DTEND;TZID=Asia/Dubai:20200111T210000
DTSTAMP:20260423T015157
CREATED:20250831T093849Z
LAST-MODIFIED:20250831T093849Z
UID:2266-1578776400-1578776400@kaistrandskov.com
SUMMARY:Stereo Creeps
DESCRIPTION:
URL:https://kaistrandskov.com/event/stereo-creeps-4/
END:VEVENT
BEGIN:VEVENT
DTSTART;TZID=Asia/Dubai:20191207T200000
DTEND;TZID=Asia/Dubai:20191207T200000
DTSTAMP:20260423T015157
CREATED:20250831T094034Z
LAST-MODIFIED:20250831T094034Z
UID:2304-1575748800-1575748800@kaistrandskov.com
SUMMARY:Spasmo
DESCRIPTION:
URL:https://kaistrandskov.com/event/spasmo-7/
END:VEVENT
BEGIN:VEVENT
DTSTART;TZID=Asia/Dubai:20191121T200000
DTEND;TZID=Asia/Dubai:20191121T200000
DTSTAMP:20260423T015157
CREATED:20250831T094034Z
LAST-MODIFIED:20250831T094034Z
UID:2303-1574366400-1574366400@kaistrandskov.com
SUMMARY:The Dutiful Dreamers
DESCRIPTION:
URL:https://kaistrandskov.com/event/the-dutiful-dreamers/
END:VEVENT
BEGIN:VEVENT
DTSTART;TZID=Asia/Dubai:20191115T210000
DTEND;TZID=Asia/Dubai:20191115T210000
DTSTAMP:20260423T015157
CREATED:20250831T094034Z
LAST-MODIFIED:20250831T094034Z
UID:2302-1573851600-1573851600@kaistrandskov.com
SUMMARY:Spasmo
DESCRIPTION:
URL:https://kaistrandskov.com/event/spasmo-6/
END:VEVENT
BEGIN:VEVENT
DTSTART;TZID=Asia/Dubai:20191108T210000
DTEND;TZID=Asia/Dubai:20191108T210000
DTSTAMP:20260423T015157
CREATED:20250831T094034Z
LAST-MODIFIED:20250831T094034Z
UID:2301-1573246800-1573246800@kaistrandskov.com
SUMMARY:The Debaucherauntes
DESCRIPTION:
URL:https://kaistrandskov.com/event/the-debaucherauntes-6/
END:VEVENT
BEGIN:VEVENT
DTSTART;TZID=Asia/Dubai:20191010T200000
DTEND;TZID=Asia/Dubai:20191010T200000
DTSTAMP:20260423T015157
CREATED:20250831T094034Z
LAST-MODIFIED:20250831T094034Z
UID:2300-1570737600-1570737600@kaistrandskov.com
SUMMARY:Spasmo
DESCRIPTION:
URL:https://kaistrandskov.com/event/spasmo-5/
END:VEVENT
BEGIN:VEVENT
DTSTART;TZID=Asia/Dubai:20190824T200000
DTEND;TZID=Asia/Dubai:20190824T200000
DTSTAMP:20260423T015157
CREATED:20250831T094019Z
LAST-MODIFIED:20250831T094019Z
UID:2299-1566676800-1566676800@kaistrandskov.com
SUMMARY:Spasmo
DESCRIPTION:
URL:https://kaistrandskov.com/event/spasmo-4/
END:VEVENT
BEGIN:VEVENT
DTSTART;TZID=Asia/Dubai:20190819T200000
DTEND;TZID=Asia/Dubai:20190819T200000
DTSTAMP:20260423T015157
CREATED:20250831T094019Z
LAST-MODIFIED:20250831T094019Z
UID:2298-1566244800-1566244800@kaistrandskov.com
SUMMARY:Love and Fury
DESCRIPTION:
URL:https://kaistrandskov.com/event/love-and-fury-6/
END:VEVENT
BEGIN:VEVENT
DTSTART;TZID=Asia/Dubai:20190803T210000
DTEND;TZID=Asia/Dubai:20190803T210000
DTSTAMP:20260423T015157
CREATED:20250831T094019Z
LAST-MODIFIED:20250831T094019Z
UID:2297-1564866000-1564866000@kaistrandskov.com
SUMMARY:Spasmo
DESCRIPTION:
URL:https://kaistrandskov.com/event/spasmo-3/
END:VEVENT
BEGIN:VEVENT
DTSTART;TZID=Asia/Dubai:20190725T200000
DTEND;TZID=Asia/Dubai:20190725T200000
DTSTAMP:20260423T015157
CREATED:20250831T094019Z
LAST-MODIFIED:20250831T094019Z
UID:2296-1564084800-1564084800@kaistrandskov.com
SUMMARY:Spasmo
DESCRIPTION:
URL:https://kaistrandskov.com/event/spasmo-2/
END:VEVENT
BEGIN:VEVENT
DTSTART;TZID=Asia/Dubai:20190712T200000
DTEND;TZID=Asia/Dubai:20190712T200000
DTSTAMP:20260423T015157
CREATED:20250831T094019Z
LAST-MODIFIED:20250831T094019Z
UID:2295-1562961600-1562961600@kaistrandskov.com
SUMMARY:The Debaucherauntes
DESCRIPTION:
URL:https://kaistrandskov.com/event/the-debaucherauntes-5/
END:VEVENT
BEGIN:VEVENT
DTSTART;TZID=Asia/Dubai:20190706T183000
DTEND;TZID=Asia/Dubai:20190706T183000
DTSTAMP:20260423T015157
CREATED:20250831T094004Z
LAST-MODIFIED:20250831T094004Z
UID:2294-1562437800-1562437800@kaistrandskov.com
SUMMARY:Stereo Creeps
DESCRIPTION:
URL:https://kaistrandskov.com/event/stereo-creeps-9/
END:VEVENT
BEGIN:VEVENT
DTSTART;TZID=Asia/Dubai:20190705T210000
DTEND;TZID=Asia/Dubai:20190705T210000
DTSTAMP:20260423T015157
CREATED:20250831T094004Z
LAST-MODIFIED:20250831T094004Z
UID:2293-1562360400-1562360400@kaistrandskov.com
SUMMARY:Spasmo
DESCRIPTION:
URL:https://kaistrandskov.com/event/spasmo/
END:VEVENT
BEGIN:VEVENT
DTSTART;TZID=Asia/Dubai:20190628T210000
DTEND;TZID=Asia/Dubai:20190628T210000
DTSTAMP:20260423T015157
CREATED:20250831T094004Z
LAST-MODIFIED:20250831T094004Z
UID:2292-1561755600-1561755600@kaistrandskov.com
SUMMARY:Love and Fury
DESCRIPTION:
URL:https://kaistrandskov.com/event/love-and-fury-5/
END:VEVENT
BEGIN:VEVENT
DTSTART;TZID=Asia/Dubai:20190617T190000
DTEND;TZID=Asia/Dubai:20190617T190000
DTSTAMP:20260423T015157
CREATED:20250831T094004Z
LAST-MODIFIED:20250831T094004Z
UID:2291-1560798000-1560798000@kaistrandskov.com
SUMMARY:Singing in the Rain Family Choir
DESCRIPTION:
URL:https://kaistrandskov.com/event/singing-in-the-rain-family-choir/
END:VEVENT
BEGIN:VEVENT
DTSTART;TZID=Asia/Dubai:20190615T210000
DTEND;TZID=Asia/Dubai:20190615T210000
DTSTAMP:20260423T015157
CREATED:20250831T094004Z
LAST-MODIFIED:20250831T094004Z
UID:2290-1560632400-1560632400@kaistrandskov.com
SUMMARY:Stereo Creeps
DESCRIPTION:
URL:https://kaistrandskov.com/event/stereo-creeps-8/
END:VEVENT
BEGIN:VEVENT
DTSTART;TZID=Asia/Dubai:20190608T210000
DTEND;TZID=Asia/Dubai:20190608T210000
DTSTAMP:20260423T015157
CREATED:20250831T093949Z
LAST-MODIFIED:20250831T093949Z
UID:2289-1560027600-1560027600@kaistrandskov.com
SUMMARY:Love and Fury
DESCRIPTION:
URL:https://kaistrandskov.com/event/love-and-fury-4/
END:VEVENT
BEGIN:VEVENT
DTSTART;TZID=Asia/Dubai:20190526T182500
DTEND;TZID=Asia/Dubai:20190526T182500
DTSTAMP:20260423T015157
CREATED:20250831T093949Z
LAST-MODIFIED:20250831T093949Z
UID:2288-1558895100-1558895100@kaistrandskov.com
SUMMARY:The Debaucherauntes
DESCRIPTION:
URL:https://kaistrandskov.com/event/the-debaucherauntes-4/
LOCATION:Northwest Folklife Festival\, 305 Harrison St\, Seattle
END:VEVENT
BEGIN:VEVENT
DTSTART;TZID=Asia/Dubai:20190524T193000
DTEND;TZID=Asia/Dubai:20190524T193000
DTSTAMP:20260423T015157
CREATED:20250831T093949Z
LAST-MODIFIED:20250831T093949Z
UID:2287-1558726200-1558726200@kaistrandskov.com
SUMMARY:Dutiful Dreamers
DESCRIPTION:
URL:https://kaistrandskov.com/event/dutiful-dreamers-2/
END:VEVENT
BEGIN:VEVENT
DTSTART;TZID=Asia/Dubai:20190518T210000
DTEND;TZID=Asia/Dubai:20190518T210000
DTSTAMP:20260423T015157
CREATED:20250831T093949Z
LAST-MODIFIED:20250831T093949Z
UID:2286-1558213200-1558213200@kaistrandskov.com
SUMMARY:Stereo Creeps
DESCRIPTION:
URL:https://kaistrandskov.com/event/stereo-creeps-7/
END:VEVENT
END:VCALENDAR