BEGIN:VCALENDAR
VERSION:2.0
PRODID:-//Kai Strandskov Music - ECPv6.15.17.1//NONSGML v1.0//EN
CALSCALE:GREGORIAN
METHOD:PUBLISH
X-WR-CALNAME:Kai Strandskov Music
X-ORIGINAL-URL:https://kaistrandskov.com
X-WR-CALDESC:Events for Kai Strandskov Music
REFRESH-INTERVAL;VALUE=DURATION:PT1H
X-Robots-Tag:noindex
X-PUBLISHED-TTL:PT1H
BEGIN:VTIMEZONE
TZID:Asia/Dubai
BEGIN:STANDARD
TZOFFSETFROM:+0400
TZOFFSETTO:+0400
TZNAME:+04
DTSTART:20250101T000000
END:STANDARD
END:VTIMEZONE
BEGIN:VEVENT
DTSTART;TZID=Asia/Dubai:20260424T200000
DTEND;TZID=Asia/Dubai:20260424T230000
DTSTAMP:20260421T233650
CREATED:20260122T234948Z
LAST-MODIFIED:20260214T015255Z
UID:2894-1777060800-1777071600@kaistrandskov.com
SUMMARY:The Drive Through
DESCRIPTION:SEATTLE – \nAn evening of feelgood rock and Americana music. Good eats.
URL:https://kaistrandskov.com/event/the-drive-through-15/
LOCATION:Skylark Cafe\, 3803 delridge way sw\, Seattle\, WA\, 98106\, United States
CATEGORIES:21+
ATTACH;FMTTYPE=image/jpeg:https://kaistrandskov.com/wp-content/uploads/2026/01/528580360_1318472096954035_8829458931369639916_n.jpg
END:VEVENT
BEGIN:VEVENT
DTSTART;TZID=Asia/Dubai:20260501T180000
DTEND;TZID=Asia/Dubai:20260501T210000
DTSTAMP:20260421T233650
CREATED:20260415T071817Z
LAST-MODIFIED:20260415T071817Z
UID:2991-1777658400-1777669200@kaistrandskov.com
SUMMARY:Radio Rewind
DESCRIPTION:WOODINVILLE\, WA – \nRadio Rewind totally rocks all your favorite hits until they kick us out! \nReservations recommended. \n21+
URL:https://kaistrandskov.com/event/radio-rewind-24/
LOCATION:Prohibition Cellars
CATEGORIES:21+
ATTACH;FMTTYPE=image/jpeg:https://kaistrandskov.com/wp-content/uploads/2025/11/RR-80s-Logo-black-bg.jpg
END:VEVENT
END:VCALENDAR