BEGIN:VCALENDAR
VERSION:2.0
PRODID:-//Kai Strandskov Music - ECPv6.15.17.1//NONSGML v1.0//EN
CALSCALE:GREGORIAN
METHOD:PUBLISH
X-WR-CALNAME:Kai Strandskov Music
X-ORIGINAL-URL:https://kaistrandskov.com
X-WR-CALDESC:Events for Kai Strandskov Music
REFRESH-INTERVAL;VALUE=DURATION:PT1H
X-Robots-Tag:noindex
X-PUBLISHED-TTL:PT1H
BEGIN:VTIMEZONE
TZID:Asia/Dubai
BEGIN:STANDARD
TZOFFSETFROM:+0400
TZOFFSETTO:+0400
TZNAME:+04
DTSTART:20240101T000000
END:STANDARD
END:VTIMEZONE
BEGIN:VEVENT
DTSTART;TZID=Asia/Dubai:20260313T200000
DTEND;TZID=Asia/Dubai:20260313T233000
DTSTAMP:20260422T014223
CREATED:20260211T004348Z
LAST-MODIFIED:20260306T101954Z
UID:2916-1773432000-1773444600@kaistrandskov.com
SUMMARY:Fae and the Lepri Con Men
DESCRIPTION:CARNATION\, WA – \nA night in tribute to the Pogues\, with many special guests. \nALL AGES
URL:https://kaistrandskov.com/event/fae-and-the-lepri-con-men/
LOCATION:Miller’s\, 4597 Tolt Ave\, Carnation\, WA\, 98014\, United States
CATEGORIES:All Ages
ATTACH;FMTTYPE=image/jpeg:https://kaistrandskov.com/wp-content/uploads/2026/02/616343785_1506321338165450_3804597662102346375_n.jpg
END:VEVENT
BEGIN:VEVENT
DTSTART;TZID=Asia/Dubai:20260301T183000
DTEND;TZID=Asia/Dubai:20260301T200000
DTSTAMP:20260422T014223
CREATED:20260122T234431Z
LAST-MODIFIED:20260122T234431Z
UID:2890-1772389800-1772395200@kaistrandskov.com
SUMMARY:Moon Letters
DESCRIPTION:TAMPA\, FL – \nMoon Letters is the closing band for the famous Prog on the Ranch festival\, featuring a long amazing weekend of incredible prog music.
URL:https://kaistrandskov.com/event/moon-letters-3/
LOCATION:Prog on the Ranch\, 18733 Phillips Road\, Brooksville\, FL\, 34604\, United States
CATEGORIES:All Ages
ATTACH;FMTTYPE=image/jpeg:https://kaistrandskov.com/wp-content/uploads/2026/01/IMG_09031.jpg
END:VEVENT
BEGIN:VEVENT
DTSTART;TZID=Asia/Dubai:20260204T200000
DTEND;TZID=Asia/Dubai:20260204T230000
DTSTAMP:20260422T014223
CREATED:20251214T074738Z
LAST-MODIFIED:20251214T074738Z
UID:2870-1770235200-1770246000@kaistrandskov.com
SUMMARY:One Trick Pony
DESCRIPTION:OAKLAND\, CA – \nA celebration of Paul Simon. \n(House Show)
URL:https://kaistrandskov.com/event/one-trick-pony-5/
LOCATION:Oakland\, Oakland\, CA\, United States
CATEGORIES:All Ages
END:VEVENT
BEGIN:VEVENT
DTSTART;TZID=Asia/Dubai:20260201T170000
DTEND;TZID=Asia/Dubai:20260201T190000
DTSTAMP:20260422T014223
CREATED:20251214T070348Z
LAST-MODIFIED:20251214T071131Z
UID:2861-1769965200-1769972400@kaistrandskov.com
SUMMARY:One Trick Pony
DESCRIPTION:GRESHAM\, OR – \nA celebration of Paul Simon.
URL:https://kaistrandskov.com/event/one-trick-pony-3/
LOCATION:Spinellas\, 436 N Main Ave\, Gresham\, OR\, 97030\, United States
CATEGORIES:All Ages
END:VEVENT
BEGIN:VEVENT
DTSTART;TZID=Asia/Dubai:20260131T200000
DTEND;TZID=Asia/Dubai:20260131T230000
DTSTAMP:20260422T014223
CREATED:20251214T065824Z
LAST-MODIFIED:20251214T071046Z
UID:2858-1769889600-1769900400@kaistrandskov.com
SUMMARY:One Trick Pony
DESCRIPTION:OAKRIDGE\, OR – \nA celebration of Paul Simon. \nAll Ages
URL:https://kaistrandskov.com/event/one-trick-pony-2/
LOCATION:3 Legged Crane\, 48329 E 1st St.\, Oakridge\, OR\, 97463\, United States
CATEGORIES:All Ages
END:VEVENT
BEGIN:VEVENT
DTSTART;TZID=Asia/Dubai:20251108T190000
DTEND;TZID=Asia/Dubai:20251108T233000
DTSTAMP:20260422T014223
CREATED:20250920T044639Z
LAST-MODIFIED:20251009T052501Z
UID:2827-1762628400-1762644600@kaistrandskov.com
SUMMARY:The Drive Through
DESCRIPTION:SEATTLE – \nRecord Release Party! Vinyl for the new album “Pacifica” will be on hand. \nAll Ages
URL:https://kaistrandskov.com/event/the-drive-through-14/
LOCATION:Easy Street Records\, 4559 California Ave SW\, Seattle
CATEGORIES:All Ages
ATTACH;FMTTYPE=image/jpeg:https://kaistrandskov.com/wp-content/uploads/2025/09/IMG_20251008_123456.jpg
END:VEVENT
BEGIN:VEVENT
DTSTART;TZID=Asia/Dubai:20250914T170000
DTEND;TZID=Asia/Dubai:20250914T233000
DTSTAMP:20260422T014223
CREATED:20250831T111429Z
LAST-MODIFIED:20250902T072714Z
UID:2728-1757869200-1757892600@kaistrandskov.com
SUMMARY:The Drive Through
DESCRIPTION:TACOMA\, WA – \nThe Drive Through celebrates our new album release\, “Pacifica”! \nThe Drive Through\, James Carr Band\, 21 Rails \nAll Ages \nEarly Show!
URL:https://kaistrandskov.com/event/2728/
LOCATION:The Spanish Ballroom\, 565 Broadway\, Tacoma\, WA\, 98402\, United States
CATEGORIES:All Ages
END:VEVENT
BEGIN:VEVENT
DTSTART;TZID=Asia/Dubai:20250913T190000
DTEND;TZID=Asia/Dubai:20250913T233000
DTSTAMP:20260422T014223
CREATED:20250831T111154Z
LAST-MODIFIED:20250902T072608Z
UID:2726-1757790000-1757806200@kaistrandskov.com
SUMMARY:Mettle Lark
DESCRIPTION:SEATTLE – \nLive Music for a Cause\, benefiting Planned Parenthood \nHorse and Tiger\, Carla Torgerson\, Mettle Lark\, K-Kollective!\, Liberty Strikes\, Sheryl Wiser \nAll Ages
URL:https://kaistrandskov.com/event/mettle-lark-24/
LOCATION:The Royal Room\, 5000 Rainier Avenue S\, Seattle\, 98118\, United States
CATEGORIES:All Ages
END:VEVENT
BEGIN:VEVENT
DTSTART;TZID=Asia/Dubai:20250903T180000
DTEND;TZID=Asia/Dubai:20250903T210000
DTSTAMP:20260422T014223
CREATED:20250831T101900Z
LAST-MODIFIED:20250902T072359Z
UID:2591-1756922400-1756933200@kaistrandskov.com
SUMMARY:Paul Simon Tribute
DESCRIPTION:BELLEVUE\, WA – \nThree hours on a beautiful patio\, celebrating the music of Paul Simon\, with some Art Garfunkel\, Everly Brothers\, and surprises. \nAll Ages
URL:https://kaistrandskov.com/event/paul-simon-tribute-3/
LOCATION:520 Bar & Grill\, 10146 Main St\, Bellevue\, WA\, 98004\, United States
CATEGORIES:All Ages
END:VEVENT
BEGIN:VEVENT
DTSTART;TZID=Asia/Dubai:20250818T190000
DTEND;TZID=Asia/Dubai:20250818T190000
DTSTAMP:20260422T014223
CREATED:20250831T083719Z
LAST-MODIFIED:20250831T131939Z
UID:2153-1755543600-1755543600@kaistrandskov.com
SUMMARY:One Trick Pony
DESCRIPTION:A tribute to the songwriter Paul Simon. Irrigon Marina Park is located at 510 NE Seventh Steet\, and Boardman Marina Park is located at 1 West Marina Drive.
URL:https://kaistrandskov.com/event/one-trick-pony/
LOCATION:Irrigon Marina Park\, Irrigon\, OR\, United States
CATEGORIES:All Ages
END:VEVENT
END:VCALENDAR