BEGIN:VCALENDAR
VERSION:2.0
PRODID:-//Kai Strandskov Music - ECPv6.15.17.1//NONSGML v1.0//EN
CALSCALE:GREGORIAN
METHOD:PUBLISH
X-ORIGINAL-URL:https://kaistrandskov.com
X-WR-CALDESC:Events for Kai Strandskov Music
REFRESH-INTERVAL;VALUE=DURATION:PT1H
X-Robots-Tag:noindex
X-PUBLISHED-TTL:PT1H
BEGIN:VTIMEZONE
TZID:Asia/Dubai
BEGIN:STANDARD
TZOFFSETFROM:+0400
TZOFFSETTO:+0400
TZNAME:+04
DTSTART:20250101T000000
END:STANDARD
END:VTIMEZONE
BEGIN:VEVENT
DTSTART;TZID=Asia/Dubai:20260411T183000
DTEND;TZID=Asia/Dubai:20260411T230000
DTSTAMP:20260421T220126
CREATED:20260223T085517Z
LAST-MODIFIED:20260223T085517Z
UID:2965-1775932200-1775948400@kaistrandskov.com
SUMMARY:Michael Trew with Psychic Cat
DESCRIPTION:EUGENE\, OR – \n[glazier]\, Michael Trew w/ Psychic Cat (Seattle)\, State Parks\n\n21+
URL:https://kaistrandskov.com/event/michael-trew-with-psychic-cat-6/
LOCATION:255 Madison\, 255 Madison St\, Eugene\, OR\, 97402\, United States
CATEGORIES:21+
ATTACH;FMTTYPE=image/jpeg:https://kaistrandskov.com/wp-content/uploads/2026/02/631345445_1572263134288474_6387821290718903142_n.jpg
END:VEVENT
END:VCALENDAR