BEGIN:VCALENDAR
VERSION:2.0
PRODID:-//Kai Strandskov Music - ECPv6.15.17.1//NONSGML v1.0//EN
CALSCALE:GREGORIAN
METHOD:PUBLISH
X-ORIGINAL-URL:https://kaistrandskov.com
X-WR-CALDESC:Events for Kai Strandskov Music
REFRESH-INTERVAL;VALUE=DURATION:PT1H
X-Robots-Tag:noindex
X-PUBLISHED-TTL:PT1H
BEGIN:VTIMEZONE
TZID:Asia/Dubai
BEGIN:STANDARD
TZOFFSETFROM:+0400
TZOFFSETTO:+0400
TZNAME:+04
DTSTART:20250101T000000
END:STANDARD
END:VTIMEZONE
BEGIN:VEVENT
DTSTART;TZID=Asia/Dubai:20260409T193000
DTEND;TZID=Asia/Dubai:20260409T230000
DTSTAMP:20260421T220103
CREATED:20260223T084741Z
LAST-MODIFIED:20260223T084839Z
UID:2960-1775763000-1775775600@kaistrandskov.com
SUMMARY:Michael Trew with Psychic Cat
DESCRIPTION:SAN FRANCISCO – \nCalico\, Michael Trew w Psychic Cat (Seattle)\, Victor and the Callers\, Your Stray Dog\n\n21+
URL:https://kaistrandskov.com/event/2960/
LOCATION:The Hotel Utah Saloon\, 500 4th St\, San Francisco\, CA\, 94107\, United States
CATEGORIES:21+
ATTACH;FMTTYPE=image/jpeg:https://kaistrandskov.com/wp-content/uploads/2026/02/622977425_1561153575399430_7936432946971108457_n.jpg
END:VEVENT
END:VCALENDAR