BEGIN:VCALENDAR
VERSION:2.0
PRODID:-//Kai Strandskov Music - ECPv6.15.17.1//NONSGML v1.0//EN
CALSCALE:GREGORIAN
METHOD:PUBLISH
X-WR-CALNAME:Kai Strandskov Music
X-ORIGINAL-URL:https://kaistrandskov.com
X-WR-CALDESC:Events for Kai Strandskov Music
REFRESH-INTERVAL;VALUE=DURATION:PT1H
X-Robots-Tag:noindex
X-PUBLISHED-TTL:PT1H
BEGIN:VTIMEZONE
TZID:Asia/Dubai
BEGIN:STANDARD
TZOFFSETFROM:+0400
TZOFFSETTO:+0400
TZNAME:+04
DTSTART:20250101T000000
END:STANDARD
END:VTIMEZONE
BEGIN:VEVENT
DTSTART;TZID=Asia/Dubai:20260408T190000
DTEND;TZID=Asia/Dubai:20260408T230000
DTSTAMP:20260421T215402
CREATED:20260316T080543Z
LAST-MODIFIED:20260318T055740Z
UID:2978-1775674800-1775689200@kaistrandskov.com
SUMMARY:Michael Trew with Psychic Cat
DESCRIPTION:LONG BEACH – \nFrenemy\, Michael Trew with Psychic Cat\, Ghost and the King \n21+
URL:https://kaistrandskov.com/event/michael-trew-with-psychic-cat-7/
LOCATION:The Sardine\, 1101 South Pacific Ave\, San Pedro\, CA\, 90731\, United States
CATEGORIES:21+
ATTACH;FMTTYPE=image/jpeg:https://kaistrandskov.com/wp-content/uploads/2026/03/652690958_18431504200191321_3784855139525760674_n.jpg
END:VEVENT
END:VCALENDAR