BEGIN:VCALENDAR
VERSION:2.0
PRODID:-//Kai Strandskov Music - ECPv6.15.17.1//NONSGML v1.0//EN
CALSCALE:GREGORIAN
METHOD:PUBLISH
X-ORIGINAL-URL:https://kaistrandskov.com
X-WR-CALDESC:Events for Kai Strandskov Music
REFRESH-INTERVAL;VALUE=DURATION:PT1H
X-Robots-Tag:noindex
X-PUBLISHED-TTL:PT1H
BEGIN:VTIMEZONE
TZID:Asia/Dubai
BEGIN:STANDARD
TZOFFSETFROM:+0400
TZOFFSETTO:+0400
TZNAME:+04
DTSTART:20250101T000000
END:STANDARD
END:VTIMEZONE
BEGIN:VEVENT
DTSTART;TZID=Asia/Dubai:20260316T080000
DTEND;TZID=Asia/Dubai:20260316T170000
DTSTAMP:20260421T235538
CREATED:20260316T080944Z
LAST-MODIFIED:20260316T081020Z
UID:2980-1773648000-1773680400@kaistrandskov.com
SUMMARY:Michael Trew with Psychic Cat
DESCRIPTION:ASHLAND\, OR – \ndetails TBA \n21+
URL:https://kaistrandskov.com/event/michael-trew-with-psychic-cat-8/
LOCATION:Local 31\, 31 Water Street #2\, Ashland\, OR\, 97520\, United States
CATEGORIES:21+
END:VEVENT
END:VCALENDAR