BEGIN:VCALENDAR
VERSION:2.0
PRODID:-//Kai Strandskov Music - ECPv6.15.17.1//NONSGML v1.0//EN
CALSCALE:GREGORIAN
METHOD:PUBLISH
X-ORIGINAL-URL:https://kaistrandskov.com
X-WR-CALDESC:Events for Kai Strandskov Music
REFRESH-INTERVAL;VALUE=DURATION:PT1H
X-Robots-Tag:noindex
X-PUBLISHED-TTL:PT1H
BEGIN:VTIMEZONE
TZID:Asia/Dubai
BEGIN:STANDARD
TZOFFSETFROM:+0400
TZOFFSETTO:+0400
TZNAME:+04
DTSTART:20250101T000000
END:STANDARD
END:VTIMEZONE
BEGIN:VEVENT
DTSTART;TZID=Asia/Dubai:20260309T200000
DTEND;TZID=Asia/Dubai:20260309T230000
DTSTAMP:20260421T235630
CREATED:20260223T065552Z
LAST-MODIFIED:20260223T065552Z
UID:2929-1773086400-1773097200@kaistrandskov.com
SUMMARY:Moon Letters
DESCRIPTION:SEATTLE – \nWitchcraft\, Serial Hawk\, Moon Letters \n21+
URL:https://kaistrandskov.com/event/moon-letters-4/
LOCATION:Substation\, 645 NW 45th St\, Seattle\, WA\, 98107\, United States
CATEGORIES:21+
ATTACH;FMTTYPE=image/jpeg:https://kaistrandskov.com/wp-content/uploads/2026/02/628983299_18567039652034439_3166297220700879876_n.jpg
END:VEVENT
END:VCALENDAR