BEGIN:VCALENDAR
VERSION:2.0
PRODID:-//Kai Strandskov Music - ECPv6.15.17.1//NONSGML v1.0//EN
CALSCALE:GREGORIAN
METHOD:PUBLISH
X-ORIGINAL-URL:https://kaistrandskov.com
X-WR-CALDESC:Events for Kai Strandskov Music
REFRESH-INTERVAL;VALUE=DURATION:PT1H
X-Robots-Tag:noindex
X-PUBLISHED-TTL:PT1H
BEGIN:VTIMEZONE
TZID:Asia/Dubai
BEGIN:STANDARD
TZOFFSETFROM:+0400
TZOFFSETTO:+0400
TZNAME:+04
DTSTART:20250101T000000
END:STANDARD
END:VTIMEZONE
BEGIN:VEVENT
DTSTART;TZID=Asia/Dubai:20260307T180000
DTEND;TZID=Asia/Dubai:20260307T210000
DTSTAMP:20260421T235521
CREATED:20260211T002934Z
LAST-MODIFIED:20260305T092352Z
UID:2913-1772906400-1772917200@kaistrandskov.com
SUMMARY:One Trick Pony
DESCRIPTION:PORT TOWNSEND\, WA – \nOne Trick Pony is a tribute to Paul Simon and related music. \n21+
URL:https://kaistrandskov.com/event/one-trick-pony-9/
LOCATION:Anchor Taven\, 628 Water St\, Port Townsend\, WA\, 98368\, United States
CATEGORIES:21+
ATTACH;FMTTYPE=image/jpeg:https://kaistrandskov.com/wp-content/uploads/2026/02/543468223_1125640816209964_2648691547171978399_n.jpg
END:VEVENT
END:VCALENDAR