BEGIN:VCALENDAR
VERSION:2.0
PRODID:-//Kai Strandskov Music - ECPv6.15.17.1//NONSGML v1.0//EN
CALSCALE:GREGORIAN
METHOD:PUBLISH
X-WR-CALNAME:Kai Strandskov Music
X-ORIGINAL-URL:https://kaistrandskov.com
X-WR-CALDESC:Events for Kai Strandskov Music
REFRESH-INTERVAL;VALUE=DURATION:PT1H
X-Robots-Tag:noindex
X-PUBLISHED-TTL:PT1H
BEGIN:VTIMEZONE
TZID:Asia/Dubai
BEGIN:STANDARD
TZOFFSETFROM:+0400
TZOFFSETTO:+0400
TZNAME:+04
DTSTART:20250101T000000
END:STANDARD
END:VTIMEZONE
BEGIN:VEVENT
DTSTART;TZID=Asia/Dubai:20260220T180000
DTEND;TZID=Asia/Dubai:20260220T210000
DTSTAMP:20260422T012322
CREATED:20260211T011836Z
LAST-MODIFIED:20260214T015347Z
UID:2924-1771610400-1771621200@kaistrandskov.com
SUMMARY:Radio Rewind
DESCRIPTION:WOODINVILLE\, WA – \nRadio Rewind rocks all your favorite hits all night long. 6pm – 9pm
URL:https://kaistrandskov.com/event/radio-rewind-23/
LOCATION:Prohibition Cellars
CATEGORIES:21+
ATTACH;FMTTYPE=image/jpeg:https://kaistrandskov.com/wp-content/uploads/2025/11/RR-80s-Logo-black-bg.jpg
END:VEVENT
END:VCALENDAR