BEGIN:VCALENDAR
VERSION:2.0
PRODID:-//Kai Strandskov Music - ECPv6.15.17.1//NONSGML v1.0//EN
CALSCALE:GREGORIAN
METHOD:PUBLISH
X-WR-CALNAME:Kai Strandskov Music
X-ORIGINAL-URL:https://kaistrandskov.com
X-WR-CALDESC:Events for Kai Strandskov Music
REFRESH-INTERVAL;VALUE=DURATION:PT1H
X-Robots-Tag:noindex
X-PUBLISHED-TTL:PT1H
BEGIN:VTIMEZONE
TZID:Asia/Dubai
BEGIN:STANDARD
TZOFFSETFROM:+0400
TZOFFSETTO:+0400
TZNAME:+04
DTSTART:20250101T000000
END:STANDARD
END:VTIMEZONE
BEGIN:VEVENT
DTSTART;TZID=Asia/Dubai:20260207T150000
DTEND;TZID=Asia/Dubai:20260207T180000
DTSTAMP:20260422T012136
CREATED:20251214T081018Z
LAST-MODIFIED:20251214T081018Z
UID:2879-1770476400-1770487200@kaistrandskov.com
SUMMARY:One Trick Pony
DESCRIPTION:HEALDSBURG\, CA – \nA celebration of Paul Simon.
URL:https://kaistrandskov.com/event/one-trick-pony-8/
LOCATION:Spicy Vines Winery\, 441 Healdsburg Ave.\, Healdsburg\, CA\, 95448\, United States
CATEGORIES:21+
END:VEVENT
END:VCALENDAR