BEGIN:VCALENDAR
VERSION:2.0
PRODID:-//Kai Strandskov Music - ECPv6.15.17.1//NONSGML v1.0//EN
CALSCALE:GREGORIAN
METHOD:PUBLISH
X-WR-CALNAME:Kai Strandskov Music
X-ORIGINAL-URL:https://kaistrandskov.com
X-WR-CALDESC:Events for Kai Strandskov Music
REFRESH-INTERVAL;VALUE=DURATION:PT1H
X-Robots-Tag:noindex
X-PUBLISHED-TTL:PT1H
BEGIN:VTIMEZONE
TZID:Asia/Dubai
BEGIN:STANDARD
TZOFFSETFROM:+0400
TZOFFSETTO:+0400
TZNAME:+04
DTSTART:20250101T000000
END:STANDARD
END:VTIMEZONE
BEGIN:VEVENT
DTSTART;TZID=Asia/Dubai:20260205T200000
DTEND;TZID=Asia/Dubai:20260205T220000
DTSTAMP:20260422T012229
CREATED:20251214T075134Z
LAST-MODIFIED:20251214T075134Z
UID:2873-1770321600-1770328800@kaistrandskov.com
SUMMARY:One Trick Pony
DESCRIPTION:PETALUMA\, CA – \nA celebration of Paul Simon.
URL:https://kaistrandskov.com/event/one-trick-pony-6/
LOCATION:Speakeasy\, 139 Petaluma Blvd. North Ste. B\, Petaluma\, CA\, 94952\, United States
CATEGORIES:21+
END:VEVENT
END:VCALENDAR