BEGIN:VCALENDAR
VERSION:2.0
PRODID:-//Kai Strandskov Music - ECPv6.15.17.1//NONSGML v1.0//EN
CALSCALE:GREGORIAN
METHOD:PUBLISH
X-WR-CALNAME:Kai Strandskov Music
X-ORIGINAL-URL:https://kaistrandskov.com
X-WR-CALDESC:Events for Kai Strandskov Music
REFRESH-INTERVAL;VALUE=DURATION:PT1H
X-Robots-Tag:noindex
X-PUBLISHED-TTL:PT1H
BEGIN:VTIMEZONE
TZID:Asia/Dubai
BEGIN:STANDARD
TZOFFSETFROM:+0400
TZOFFSETTO:+0400
TZNAME:+04
DTSTART:20240101T000000
END:STANDARD
END:VTIMEZONE
BEGIN:VEVENT
DTSTART;TZID=Asia/Dubai:20251212T210000
DTEND;TZID=Asia/Dubai:20251212T210000
DTSTAMP:20260422T063927
CREATED:20251125T102559Z
LAST-MODIFIED:20251125T102712Z
UID:2852-1765573200-1765573200@kaistrandskov.com
SUMMARY:Radio Rewind
DESCRIPTION:SEATTLE – \nRadio Rewind rocks all your favorite hit songs\, all night long.
URL:https://kaistrandskov.com/event/radio-rewind-20/
LOCATION:Elmer’s Bar & Grill\, 15027 Ambaum Blvd SW\, Burien\, WA\, 98166\, United States
CATEGORIES:21+
ATTACH;FMTTYPE=image/jpeg:https://kaistrandskov.com/wp-content/uploads/2025/11/RR-80s-Logo-black-bg.jpg
END:VEVENT
END:VCALENDAR