BEGIN:VCALENDAR
VERSION:2.0
PRODID:-//Kai Strandskov Music - ECPv6.15.17.1//NONSGML v1.0//EN
CALSCALE:GREGORIAN
METHOD:PUBLISH
X-ORIGINAL-URL:https://kaistrandskov.com
X-WR-CALDESC:Events for Kai Strandskov Music
REFRESH-INTERVAL;VALUE=DURATION:PT1H
X-Robots-Tag:noindex
X-PUBLISHED-TTL:PT1H
BEGIN:VTIMEZONE
TZID:Asia/Dubai
BEGIN:STANDARD
TZOFFSETFROM:+0400
TZOFFSETTO:+0400
TZNAME:+04
DTSTART:20240101T000000
END:STANDARD
END:VTIMEZONE
BEGIN:VEVENT
DTSTART;TZID=Asia/Dubai:20251122T210000
DTEND;TZID=Asia/Dubai:20251122T233000
DTSTAMP:20260422T064251
CREATED:20250928T110112Z
LAST-MODIFIED:20250928T110202Z
UID:2834-1763845200-1763854200@kaistrandskov.com
SUMMARY:Radio Rewind
DESCRIPTION:MILL CREEK\, WA – \nRadio Rewind plays all your favorite hits from past and present all night long. \n21+
URL:https://kaistrandskov.com/event/radio-rewind-19/
LOCATION:Peabo’s Sports Bar and Grill\, 1700 SE 132nd St\, Mill Creek\, WA\, United States
CATEGORIES:21+
END:VEVENT
END:VCALENDAR