BEGIN:VCALENDAR
VERSION:2.0
PRODID:-//Kai Strandskov Music - ECPv6.15.17.1//NONSGML v1.0//EN
CALSCALE:GREGORIAN
METHOD:PUBLISH
X-WR-CALNAME:Kai Strandskov Music
X-ORIGINAL-URL:https://kaistrandskov.com
X-WR-CALDESC:Events for Kai Strandskov Music
REFRESH-INTERVAL;VALUE=DURATION:PT1H
X-Robots-Tag:noindex
X-PUBLISHED-TTL:PT1H
BEGIN:VTIMEZONE
TZID:Asia/Dubai
BEGIN:STANDARD
TZOFFSETFROM:+0400
TZOFFSETTO:+0400
TZNAME:+04
DTSTART:20240101T000000
END:STANDARD
END:VTIMEZONE
BEGIN:VEVENT
DTSTART;TZID=Asia/Dubai:20250703T180000
DTEND;TZID=Asia/Dubai:20250703T180000
DTSTAMP:20260424T175928
CREATED:20250831T083518Z
LAST-MODIFIED:20250831T095502Z
UID:2146-1751565600-1751565600@kaistrandskov.com
SUMMARY:Paul Simon Tribute
DESCRIPTION:We play your favorite Paul Simon and adjacent music from 6pm – 9pm.
URL:https://kaistrandskov.com/event/paul-simon-tribute-2/
LOCATION:520 Bar & Grill\, 10146 Main St\, Bellevue\, WA\, 98004\, United States
END:VEVENT
END:VCALENDAR