BEGIN:VCALENDAR
VERSION:2.0
PRODID:-//Kai Strandskov Music - ECPv6.15.17.1//NONSGML v1.0//EN
CALSCALE:GREGORIAN
METHOD:PUBLISH
X-ORIGINAL-URL:https://kaistrandskov.com
X-WR-CALDESC:Events for Kai Strandskov Music
REFRESH-INTERVAL;VALUE=DURATION:PT1H
X-Robots-Tag:noindex
X-PUBLISHED-TTL:PT1H
BEGIN:VTIMEZONE
TZID:Asia/Dubai
BEGIN:STANDARD
TZOFFSETFROM:+0400
TZOFFSETTO:+0400
TZNAME:+04
DTSTART:20240101T000000
END:STANDARD
END:VTIMEZONE
BEGIN:VEVENT
DTSTART;TZID=Asia/Dubai:20250613T200000
DTEND;TZID=Asia/Dubai:20250613T200000
DTSTAMP:20260424T192825
CREATED:20250831T083317Z
LAST-MODIFIED:20250831T100547Z
UID:2141-1749844800-1749844800@kaistrandskov.com
SUMMARY:Mettle Lark
DESCRIPTION:Mettle Lark single release! \nDaffodahlias\, Mettle Lark\, and Tom Price Desert Classic
URL:https://kaistrandskov.com/event/mettle-lark-5/
LOCATION:Slim’s Last Chance
END:VEVENT
END:VCALENDAR